BEGIN:VCALENDAR
VERSION:2.0
PRODID:-//ChamberMaster//Event Calendar 2.0//EN
METHOD:PUBLISH
X-PUBLISHED-TTL:P3D
REFRESH-INTERVAL:P3D
CALSCALE:GREGORIAN
BEGIN:VEVENT
DTSTART:20180616T140000Z
DTEND:20180616T160000Z
X-MICROSOFT-CDO-ALLDAYEVENT:FALSE
SUMMARY:Kennebunk Land Trust June 16th Naturalist Walk: Alewive Woods Preserve
DESCRIPTION:The Kennebunk Land Trust is hosting a naturalist walk on Saturday\, June 16th at the Alewive Woods Preserve. The preserve is located just off Cole Road\, 3.5 miles west of Interstate 95.The preserve boasts over 625 acres of land and a 45-acre pond at its center\, and is ideal for mixed recreational uses. Parking is available at the trailhead. The 2.5 miles of trails can be described as easy to moderate in difficulty. This event is free and open to the public.\n\nThis is a rain or shine event\; please wear appropriate footwear and clothing for the weather. Call 207-985-8734 for more details.
X-ALT-DESC;FMTTYPE=text/html:<p>The Kennebunk Land Trust is hosting a naturalist walk on Saturday\, June 16th at the Alewive Woods Preserve. The preserve is located just off Cole Road\, 3.5 miles west of Interstate 95.The preserve boasts over 625 acres of land and a 45-acre pond at its center\, and is ideal for mixed recreational uses. Parking is available at the trailhead. The 2.5 miles of trails can be described as easy to moderate in difficulty. This event is free and open to the public.</p>\n\n<p>This is a rain or shine event\; please wear appropriate footwear and clothing for the weather. Call 207-985-8734 for more details.</p>\n
LOCATION:Alewive Woods Preserve.The preserve is located just off Cole Road in Kennebunk\, 3.5 miles west of Interstate 95.
UID:e.1923.9874
SEQUENCE:3
DTSTAMP:20260425T143603Z
URL:https://chamber.gokennebunks.com/events/details/kennebunk-land-trust-june-16th-naturalist-walk-alewive-woods-preserve-9874
END:VEVENT

END:VCALENDAR
