BEGIN:VCALENDAR
VERSION:2.0
PRODID:-//ChamberMaster//Event Calendar 2.0//EN
METHOD:PUBLISH
X-PUBLISHED-TTL:P3D
REFRESH-INTERVAL:P3D
CALSCALE:GREGORIAN
BEGIN:VEVENT
DTSTART:20190518T140000Z
DTEND:20190518T153000Z
X-MICROSOFT-CDO-ALLDAYEVENT:FALSE
SUMMARY:Kennebunk Land Trust Environmental Speaker Series: Raptors\, Reptiles\, and Mammals of Maine
DESCRIPTION:Join the Kennebunk Land Trust on Saturday\, May 18th\, from 10am-11:00am at the Hampton Inn-Kennebunk/Kennebunkport for a presentation by The Center for Wildlife on the Raptors\, Reptiles\, and Mammals of Maine. Meet the Center's live animal ambassadors and learn more about the differences between the many animals you may spot in the Maine outdoors! This program is free and open to the public.  Light refreshments provided. Please RSVP by Wednesday\, May 15th. For questions or to RSVP please call The KLT Office at 207-985-8734 or email kennebunklandtrustinfo@gmail.com.\n\nThis program is sponsored by Hampton Inn-Kennebunk/Kennebunkport.\n\nDirections:\n\nThe Hampton Inn is located at 6 Independence Drive\, Kennebunk\, ME 04043.\n\nFrom South: Take I-95 N\, passing through NH (Portions Toll) and then crossing onto Maine (Portions Toll)(42.5 mi). Take the ME-35 exit\, Exit 25\, toward Kennebunk/Kennebunkport (.3 mi). Turn slight right onto Old Alewive Rd(.1 mi). Turn right onto Fletcher St/ME-35 (.2). Turn right onto Old Alewive Rd/ME-35 (.1 mi). Turn left onto Independence Dr (.01 mi). Hotel is on the left.\n\nFrom North: Merge onto I-95 S Maine Turnpike S (Portions Toll)(17.4 mi). Take ME-35 exit\, Exit 25\, toward Kennebunk/Kennebunkport (.5 mi). Turn left onto Old Alewive Rd/ME-35 (.08 mi). Turn right onto Independence Drive (.01 mi). Hotel is on the left.
X-ALT-DESC;FMTTYPE=text/html:<p><span style="font-family:calibri\; font-size:11pt">Join the Kennebunk Land Trust on </span><strong>Saturday\, May 18th\, from 10am-11:00am</strong><span style="font-family:calibri\; font-size:11pt"> at the Hampton Inn-Kennebunk/Kennebunkport for a presentation by The Center for Wildlife on the Raptors\, Reptiles\, and Mammals of Maine. Meet the Center&rsquo\;s live animal ambassadors and learn more about the differences between the many animals you may spot in the Maine outdoors! This program is free and open to the public. &nbsp\;Light refreshments provided. Please RSVP by Wednesday\, May 15th. For questions or to RSVP please call The KLT Office at 207-985-8734 or email kennebunklandtrustinfo@gmail.com.</span></p>\n\n<p><span style="font-family:calibri\; font-size:11pt">This program is sponsored by Hampton Inn-Kennebunk/Kennebunkport.</span></p>\n\n<p><strong>Directions:</strong></p>\n\n<p><span style="font-family:calibri\; font-size:11pt">The Hampton Inn is located at 6 Independence Drive\, Kennebunk\, ME 04043.</span></p>\n\n<p><strong>From South</strong><span style="font-family:calibri\; font-size:11pt">: Take I-95 N\, passing through NH (Portions Toll) and then crossing onto Maine (Portions Toll)(42.5 mi). Take the ME-35 exit\, Exit 25\, toward Kennebunk/Kennebunkport (.3 mi). Turn slight right onto Old Alewive Rd(.1 mi). Turn right onto Fletcher St/ME-35 (.2). Turn right onto Old Alewive Rd/ME-35 (.1 mi). Turn left onto Independence Dr (.01 mi). Hotel is on the left.</span></p>\n\n<p><strong>From North:</strong><span style="font-family:calibri\; font-size:11pt"> Merge onto I-95 S Maine Turnpike S (Portions Toll)(17.4 mi). Take ME-35 exit\, Exit 25\, toward Kennebunk/Kennebunkport (.5 mi). Turn left onto Old Alewive Rd/ME-35 (.08 mi). Turn right onto Independence Drive (.01 mi). Hotel is on the left.</span></p>\n\n<div>&nbsp\;</div>\n
LOCATION:Hampton Inn-Kennebunk/Kennebunkport. Directions: The Hampton Inn is located at 6 Independence Drive\, Kennebunk\, ME 04043. From South: Take I-95 N\, passing through NH (Portions Toll) and then crossing onto Maine (Portions Toll)(42.5 mi). Take the ME-35 exit\, Exit 25\, toward Kennebunk/Kennebunkport (.3 mi). Turn slight right onto Old Alewive Rd(.1 mi). Turn right onto Fletcher St/ME-35 (.2). Turn right onto Old Alewive Rd/ME-35 (.1 mi). Turn left onto Independence Dr (.01 mi). Hotel is on the left. From North: Merge onto I-95 S Maine Turnpike S (Portions Toll)(17.4 mi). Take ME-35 exit\, Exit 25\, toward Kennebunk/Kennebunkport (.5 mi). Turn left onto Old Alewive Rd/ME-35 (.08 mi). Turn right onto Independence Drive (.01 mi). Hotel is on the left.
UID:e.1923.13115
SEQUENCE:3
DTSTAMP:20260424T223002Z
URL:https://chamber.gokennebunks.com/events/details/kennebunk-land-trust-environmental-speaker-series-raptors-reptiles-and-mammals-of-maine-13115
END:VEVENT

END:VCALENDAR
