BEGIN:VCALENDAR
VERSION:2.0
PRODID:-//ChamberMaster//Event Calendar 2.0//EN
METHOD:PUBLISH
X-PUBLISHED-TTL:P3D
REFRESH-INTERVAL:P3D
CALSCALE:GREGORIAN
BEGIN:VEVENT
DTSTART:20230421T120000Z
DTEND:20230429T000000Z
X-MICROSOFT-CDO-ALLDAYEVENT:FALSE
SUMMARY:Kennebunk Land Trust Earth Day Online Auction
DESCRIPTION:Starting on April 21\, 2023\, Kennebunk Land Trust will be raising money for our land conservation and stewardship work through our annual Earth Day Auction KLT is so glad to offer fun and unique items showcasing our local community\, and welcome your donation! Over 130 items donated by community members and area businesses! Give a little and get a lot in return and support conservation in our community.
X-ALT-DESC;FMTTYPE=text/html:Starting on April 21\, 2023\, Kennebunk Land Trust will be raising money for our land conservation and stewardship work through our annual Earth Day Auction KLT is so glad to offer fun and unique items showcasing our local community\, and welcome your donation! Over 130 items donated by community members and area businesses! Give a little and get a lot in return and support conservation in our community.
LOCATION:Online: https://www.biddingforgood.com/auction/auctionhome.action?vhost=kennebunklandtrust
UID:e.1923.19126
SEQUENCE:3
DTSTAMP:20260424T112944Z
URL:https://chamber.gokennebunks.com/events/details/kennebunk-land-trust-earth-day-online-auction-19126
END:VEVENT

END:VCALENDAR
