BEGIN:VCALENDAR
VERSION:2.0
PRODID:-//ChamberMaster//Event Calendar 2.0//EN
METHOD:PUBLISH
X-PUBLISHED-TTL:P3D
REFRESH-INTERVAL:P3D
CALSCALE:GREGORIAN
BEGIN:VEVENT
DTSTART:20190503T220000Z
DTEND:20190504T000000Z
X-MICROSOFT-CDO-ALLDAYEVENT:FALSE
SUMMARY:Kennebunk Land Trust Auction
DESCRIPTION:The Kennebunk Land Trust's (KLT) 19th Annual Auction is scheduled for Friday\, May 3rd at 6pm. The weekend of May 3rd aligns with the Kentucky Derby and therefore\, KLT has adopted a fun\, Kentucky Derby theme again for this year's auction. The auction features hearty Kentucky Derby themed hors d'oeuvres as well as festive drinks. \n\nThe auction\, the Trust's largest fundraiser of the year\, will take place at Johnson Hall Museum\, 2713 Post Rd\, Wells\, ME 04090. Tickets are $65.00 per person and $75 at the door if not sold out. Please make your reservation by April 19th.  Primary Sponsors for the auction are Avita of Wells\, HM Payson\, and Kennebunk Savings Bank. The auction proceeds will benefit KLT and local land conservation efforts.\n\nOriginal artwork\, gift certificates to local restaurants\, fine wines\, and a rafting trip\, reflect just a few of the items available for bidding at the auction. A 50/50 raffle and fun derby themed games will bring a vibrant atmosphere to the evening as well. Items were donated by many local businesses\, artists\, and other individuals. The online portion of the auction will open on April 26th. To view a sampling of auction items\, purchase tickets\, and view our list of  business sponsors please visit https://www.biddingforgood.com/kennebunklandtrust\n\nTo stay connected\, check out Kennebunk Land Trust on Facebook and follow kennebunk_landtrust on Instagram. If you have any questions about the auction or if you would like to donate or sponsor please contact 207-985-8734 or email kennebunklandtrustinfo@gmail.com We hope you join us in our "race" for conservation!
X-ALT-DESC;FMTTYPE=text/html:<span style="font-family:times new roman\,serif"><span style="font-size:12.0pt">The Kennebunk Land Trust&rsquo\;s (KLT) 19th Annual Auction is scheduled for Friday\, May 3rd at 6pm. The weekend of May 3<sup>rd</sup> aligns with the Kentucky Derby and therefore\, KLT has adopted a fun\, Kentucky Derby theme again for this year&rsquo\;s auction. The auction features hearty Kentucky Derby themed hors d&#39\;oeuvres as well as festive drinks. </span></span><br />\n<span style="font-family:times new roman\,serif"><span style="font-size:12.0pt">The auction\, the Trust&rsquo\;s largest fundraiser of the year\, will take place at Johnson Hall Museum\, 2713 Post Rd\, Wells\, ME 04090. Tickets are $65.00 per person and $75 at the door if not sold out. Please make your reservation by April 19<sup>th</sup>. &nbsp\;Primary Sponsors for the auction are Avita of Wells\, HM Payson\, and Kennebunk Savings Bank. The auction proceeds will benefit KLT and local land conservation efforts.</span></span><br />\n<span style="font-family:times new roman\,serif"><span style="font-size:12.0pt">Original artwork\, gift certificates to local restaurants\, fine wines\, and a rafting trip\, reflect just a few of the items available for bidding at the auction. A 50/50 raffle and fun derby themed games will bring a vibrant atmosphere to the evening as well. Items were donated by many local businesses\, artists\, and other individuals. The online portion of the auction will open on April 26<sup>th</sup>. To view a sampling of auction items\, purchase tickets\, and view our list of &nbsp\;business sponsors please visit </span></span><a href="https://www.biddingforgood.com/kennebunklandtrust"><span style="font-family:times new roman\,serif"><span style="font-size:12.0pt">https://www.biddingforgood.com/kennebunklandtrust</span></span></a><br />\n<span style="font-family:times new roman\,serif"><span style="font-size:12.0pt">To stay connected\, check out Kennebunk Land Trust on Facebook and follow kennebunk_landtrust on Instagram. If you have any questions about the auction or if you would like to donate or sponsor please contact 207-985-8734 or email </span></span><a href="mailto:kennebunklandtrustinfo@gmail.com"><span style="font-family:times new roman\,serif">kennebunklandtrustinfo@gmail.com</span></a> <span style="font-family:times new roman\,serif"><span style="font-size:12.0pt">We hope you join us in our &ldquo\;race&rdquo\; for conservation!</span></span><br />\n&nbsp\;
LOCATION:Johnson Hall Museum\, 2713 Post Rd\, Wells\, ME 04090.
UID:e.1923.13114
SEQUENCE:3
DTSTAMP:20260424T210415Z
URL:https://chamber.gokennebunks.com/events/details/kennebunk-land-trust-auction-13114
END:VEVENT

END:VCALENDAR
