BEGIN:VCALENDAR
VERSION:2.0
PRODID:-//ChamberMaster//Event Calendar 2.0//EN
METHOD:PUBLISH
X-PUBLISHED-TTL:P3D
REFRESH-INTERVAL:P3D
CALSCALE:GREGORIAN
BEGIN:VEVENT
DTSTART:20180504T220000Z
DTEND:20180505T010000Z
X-MICROSOFT-CDO-ALLDAYEVENT:FALSE
SUMMARY:Kennebunk Land Trust Annual Auction
DESCRIPTION:The Kennebunk Land Trust's 18th Annual Auction is scheduled for Friday\, May 4th from 6pm to 9pm at Johnson Hall Museum\, located at 2713 Post Rd\, Wells\, ME 04090 (Rt. 1). Please join us for this Kentucky Derby Themed event. We are going green and paperless and utilizing mobile bidding both before the live event and at our live event. For a complete auction overview (purchase tickets\, register online\, bid on items\, and view items and sponsors) please visit: https://www.biddingforgood.com/kennebunklandtrust \n\nPlease call 207-985-8734 for more information!\n\nThank you to our prime sponsors: Avita of Wells\, HM Payson\, & Kennebunk Savings Bank!
X-ALT-DESC;FMTTYPE=text/html:<span style="font-size:14px"><span style="font-family:arial\,helvetica\,sans-serif">The Kennebunk Land Trust&#39\;s 18th Annual Auction is s<strong>cheduled for Friday\, May 4th from 6pm to 9pm </strong>at Johnson Hall Museum\, located at 2713 Post Rd\, Wells\, ME 04090 (Rt. 1). Please join us for this Kentucky Derby Themed event. We are going <span style="color:#008000"><strong>green</strong> </span>and paperless and utilizing mobile bidding both before the live event and at our live event. For a complete auction overview (purchase tickets\, register online\, bid on items\, and view items and sponsors) please visit: <span style="color:#0000CD">https://www.biddingforgood.com/kennebunklandtrust&nbsp\;</span><br />\nPlease&nbsp\;call 207-985-8734 for more information!<br />\n<strong>Thank you to our prime sponsors: Avita of Wells\, HM Payson\, &amp\; Kennebunk Savings Bank!</strong></span></span>
LOCATION:Johnson Hall 2713 Post Rd\, Wells\, ME 04090 (Rt. 1).
UID:e.1923.7154
SEQUENCE:3
DTSTAMP:20260425T155042Z
URL:https://chamber.gokennebunks.com/events/details/kennebunk-land-trust-annual-auction-7154
END:VEVENT

END:VCALENDAR
