BEGIN:VCALENDAR
VERSION:2.0
PRODID:-//ChamberMaster//Event Calendar 2.0//EN
METHOD:PUBLISH
X-PUBLISHED-TTL:P3D
REFRESH-INTERVAL:P3D
CALSCALE:GREGORIAN
BEGIN:VEVENT
DTSTART:20180818T150000Z
DTEND:20180818T200000Z
X-MICROSOFT-CDO-ALLDAYEVENT:FALSE
SUMMARY:Kennebunk Home Run Derby
DESCRIPTION:3rd Annual Home Run Derby Fundraiser August 18\, 2018 at 11:00AM Lloyd Nadeau Field in Kennebunk (1 Clearbrook Crossing) 100% of proceeds will be donated to Brian & Beth Shorey (Brian is the son of Bill and Jean Shorey and the brother of John and Bobby Kinney)   Softball (adult) and Baseball (youth) Rounds   $5.00 Meals   Silent Auction and Raffles   Trophies Each year the Kennebunk Coed Softball League holds a Home Run Derby to help a local family in need. This year we are holding the derby for Brian & Beth Shorey. They were involved in a bad motorcycle accident and will be out of work while rehab and healing.
X-ALT-DESC;FMTTYPE=text/html:3rd Annual Home Run Derby Fundraiser August 18\, 2018 at 11:00AM Lloyd Nadeau Field in Kennebunk (1 Clearbrook Crossing) 100% of proceeds will be donated to Brian &amp\; Beth Shorey (Brian is the son of Bill and Jean Shorey and the brother of John and Bobby Kinney) &bull\; Softball (adult) and Baseball (youth) Rounds &bull\; $5.00 Meals &bull\; Silent Auction and Raffles &bull\; Trophies Each year the Kennebunk Coed Softball League holds a Home Run Derby to help a local family in need. This year we are holding the derby for Brian &amp\; Beth Shorey. They were involved in a bad motorcycle accident and will be out of work while rehab and healing.
LOCATION:Lloyd Nadeau Field in Kennebunk (1 Clearbrook Crossing)
UID:e.1923.9966
SEQUENCE:3
DTSTAMP:20260425T103759Z
URL:https://chamber.gokennebunks.com/events/details/kennebunk-home-run-derby-9966
END:VEVENT

END:VCALENDAR
