BEGIN:VCALENDAR
VERSION:2.0
PRODID:-//ChamberMaster//Event Calendar 2.0//EN
METHOD:PUBLISH
X-PUBLISHED-TTL:P3D
REFRESH-INTERVAL:P3D
CALSCALE:GREGORIAN
BEGIN:VEVENT
DTSTART:20180623T230000Z
DTEND:20180624T003000Z
X-MICROSOFT-CDO-ALLDAYEVENT:FALSE
SUMMARY:Kennebunk High School Alumni & Friends Benefit Concert
DESCRIPTION:Music Alumni and Friends of Kennebunk High School join together to create a concert band and choral concert to commemorate the new theater. The proceeds from this concert will benefit the 2020 Music Department trip to New York City.
X-ALT-DESC;FMTTYPE=text/html:Music Alumni and Friends of Kennebunk High School join together to create a concert band and choral concert to commemorate the new theater. The proceeds from this concert will benefit the 2020 Music Department trip to New York City.
LOCATION:Kennebunk High School Theater
UID:e.1923.9904
SEQUENCE:3
DTSTAMP:20260425T143513Z
URL:https://chamber.gokennebunks.com/events/details/kennebunk-high-school-alumni-friends-benefit-concert-9904
END:VEVENT

END:VCALENDAR
