BEGIN:VCALENDAR
VERSION:2.0
PRODID:-//ChamberMaster//Event Calendar 2.0//EN
METHOD:PUBLISH
X-PUBLISHED-TTL:P3D
REFRESH-INTERVAL:P3D
CALSCALE:GREGORIAN
BEGIN:VEVENT
DTSTART:20250730T113000Z
DTEND:20250730T143000Z
X-MICROSOFT-CDO-ALLDAYEVENT:FALSE
SUMMARY:Kennebunk Bicycle Tour & Tidepool Excursion
DESCRIPTION:Join Coastal Maine Hike and Bike for a serene and scenic family-friendly bicycle tour of Kennebunk's beaches\, stopping midway for an up-close encounter with the fascinating animals and plants that inhabit our local tidepools. We're so excited to partner with Coastal Carol of Coast Encounters -- the area's premier tidepool guide -- for this once-in-a-summer bicycle tour!\n\n\n\nOur local guide will lead you and your family on a gentle six-mile ride\, passing alongside Kennebunk's beautiful beaches\, pausing along the way for sightseeing and picture-taking. At the halfway point\, we'll stop at Kennebunk's Middle Beach to meet with Coastal Carol\, who'll take the group out among the tidepools to discover what lives beneath the seaweed and rocks. You'll be amazed at the diverse ecosystem you'll discover and captivated by Carol's educational and entertaining explanation.\n\n\n\nThe ride leaves at 7:30 a.m.\, when traffic is light\, the air is cool\, and the tide is low -- ideal conditions for biking and tidepool exploring.\n\n\n\nFun for families\, couples\, friends\, and active seniors!\n\n\n\nCost: $120/bike\n\n\n\nLEARN MORE AND BOOK AT coastalmainehikeandbike.com/tidepool or call (207) 967-6065
X-ALT-DESC;FMTTYPE=text/html:Join Coastal Maine Hike and Bike for a serene and scenic family-friendly bicycle tour of Kennebunk&#39\;s beaches\, stopping midway for an up-close encounter with the fascinating animals and plants that inhabit our local tidepools. We&#39\;re so excited to partner with Coastal Carol of Coast Encounters -- the area&#39\;s premier tidepool guide -- for this once-in-a-summer bicycle tour!<br />\n<br />\nOur local guide will lead you and your family on a gentle six-mile ride\, passing alongside Kennebunk&#39\;s beautiful beaches\, pausing along the way for sightseeing and picture-taking. At the halfway point\, we&#39\;ll stop at Kennebunk&#39\;s Middle Beach to meet with Coastal Carol\, who&#39\;ll take the group out among the tidepools to discover what lives beneath the seaweed and rocks. You&#39\;ll be amazed at the diverse ecosystem you&#39\;ll discover and captivated by Carol&#39\;s educational and entertaining explanation.<br />\n<br />\nThe ride leaves at 7:30 a.m.\, when traffic is light\, the air is cool\, and the tide is low -- ideal conditions for biking and tidepool exploring.<br />\n<br />\n<strong>Fun for families\, couples\, friends\, and active seniors!</strong><br />\n<br />\nCost: $120/bike<br />\n<br />\nLEARN MORE AND BOOK AT&nbsp\;<a href="https://coastalmainehikeandbike.com/tidepool">coastalmainehikeandbike.com/tidepool</a>&nbsp\;or call&nbsp\;(207) 967-6065<br />\n&nbsp\;
LOCATION:Leaving from Coastal Maine Hike and Bike shop\, 8 Western Ave\, Kennebunk\, Maine.
UID:e.1923.37687
SEQUENCE:3
DTSTAMP:20260421T074247Z
URL:https://chamber.gokennebunks.com/events/details/kennebunk-bicycle-tour-tidepool-excursion-37687
END:VEVENT

END:VCALENDAR
