BEGIN:VCALENDAR
VERSION:2.0
PRODID:-//ChamberMaster//Event Calendar 2.0//EN
METHOD:PUBLISH
X-PUBLISHED-TTL:P3D
REFRESH-INTERVAL:P3D
CALSCALE:GREGORIAN
BEGIN:VEVENT
DTSTART:20250705T140000Z
DTEND:20250705T153000Z
X-MICROSOFT-CDO-ALLDAYEVENT:FALSE
SUMMARY:Kennebunk Beach Walking Tour
DESCRIPTION:On July 5th\, join the Brick store Museum at Trinity Chapel\, Railroad Avenue\, Kennebunk Beach at 10AM. This tour focuses on the history of the development of Kennebunk Beach as a tourist destination. It's a one mile loop that lasts 90 minutes. This tour is $10.00 per person\, and $5 for members. \n\nReserve in advance by calling us at 985-4802 or visit www.brickstoremuseum.org.
X-ALT-DESC;FMTTYPE=text/html:On July 5th\, join the Brick store Museum at Trinity Chapel\, Railroad Avenue\, Kennebunk Beach at 10AM. This tour focuses on the history of the development of Kennebunk Beach as a tourist destination. It&#39\;s a one mile loop that lasts 90 minutes. This tour is $10.00 per person\, and $5 for members.&nbsp\;<br />\nReserve in advance by calling us at 985-4802 or visit www.brickstoremuseum.org.&nbsp\;
LOCATION:Trinity Chapel
UID:e.1923.37611
SEQUENCE:3
DTSTAMP:20260421T073523Z
URL:https://chamber.gokennebunks.com/events/details/kennebunk-beach-walking-tour-07-05-2025-37611
END:VEVENT

END:VCALENDAR
