BEGIN:VCALENDAR
VERSION:2.0
PRODID:-//ChamberMaster//Event Calendar 2.0//EN
METHOD:PUBLISH
X-PUBLISHED-TTL:P3D
REFRESH-INTERVAL:P3D
CALSCALE:GREGORIAN
BEGIN:VEVENT
DTSTART:20240831T140000Z
DTEND:20240831T153000Z
X-MICROSOFT-CDO-ALLDAYEVENT:FALSE
SUMMARY:Kennebunk Beach History Walking Tour
DESCRIPTION:10:00 AM. Begins at Trinity Chapel\, Railroad Avenue\, Kennebunk Beach. Learn the history of the development of Kennebunk Beach as a tourist destination. About a one-mile loop\, 90 minutes\, led by trained tour guide. $10.00 per person/$5 for members. Reserve in advance by calling 985-4802 or visit www.brickstoremuseum.org.
X-ALT-DESC;FMTTYPE=text/html:10:00 AM. Begins at Trinity Chapel\, Railroad Avenue\, Kennebunk Beach. Learn the history of the development of Kennebunk Beach as a tourist destination. About a one-mile loop\, 90 minutes\, led by trained tour guide. $10.00 per person/$5 for members. Reserve in advance by calling 985-4802 or visit <a href="http://www.brickstoremuseum.org/">www.brickstoremuseum.org</a>.
LOCATION:117 Main Street\, Kennebunk\, ME 04043
UID:e.1923.29705
SEQUENCE:3
DTSTAMP:20260421T124352Z
URL:https://chamber.gokennebunks.com/events/details/kennebunk-beach-history-walking-tour-08-31-2024-29705
END:VEVENT

END:VCALENDAR
