BEGIN:VCALENDAR
VERSION:2.0
PRODID:-//ChamberMaster//Event Calendar 2.0//EN
METHOD:PUBLISH
X-PUBLISHED-TTL:P3D
REFRESH-INTERVAL:P3D
CALSCALE:GREGORIAN
BEGIN:VEVENT
DTSTART:20220716T150000Z
DTEND:20220716T160000Z
X-MICROSOFT-CDO-ALLDAYEVENT:FALSE
SUMMARY:Kennebunk Beach History Walking Tour
DESCRIPTION:This outdoor walking tour of Kennebunk's Mothers Beach features eleven historic homes and an illustration of life at the beach in the early 20th Century. Every Saturday\, tours depart from Trinity Chapel on Woodland Ave.\n\nTime: 60   90 minutes\n\nDistance: Less than a mile on sidewalks and flat terrain.
X-ALT-DESC;FMTTYPE=text/html:<p>This outdoor walking tour of Kennebunk&rsquo\;s Mothers Beach features eleven historic homes and an illustration of life at the beach in the early 20th Century. Every Saturday\, tours depart from Trinity Chapel on Woodland Ave.</p>\n\n<p>Time: 60 &ndash\; 90 minutes</p>\n\n<p>Distance: Less than a mile on sidewalks and flat terrain.</p>\n
LOCATION:Brick Store Museum 117 Main Street Kennebunk\, ME 04043
UID:e.1923.17576
SEQUENCE:3
DTSTAMP:20260419T175813Z
URL:https://chamber.gokennebunks.com/events/details/kennebunk-beach-history-walking-tour-07-16-2022-17576
END:VEVENT

END:VCALENDAR
