BEGIN:VCALENDAR
VERSION:2.0
PRODID:-//ChamberMaster//Event Calendar 2.0//EN
METHOD:PUBLISH
X-PUBLISHED-TTL:P3D
REFRESH-INTERVAL:P3D
CALSCALE:GREGORIAN
BEGIN:VEVENT
DTSTART:20180603T133000Z
DTEND:20180603T160000Z
X-MICROSOFT-CDO-ALLDAYEVENT:FALSE
SUMMARY:Kennebunk Beach Classic 5K
DESCRIPTION:The race will be followed by food & beverage.\n\n-- Certified / Fast Oceanside Course\n\n-- Professional Timing & Results\n\n-- Prizes and Awards\n\n-- Cool Performance & Regular T-Shirts\, Hats & Visors
X-ALT-DESC;FMTTYPE=text/html:The race will be followed by food &amp\; beverage.<br />\n-- Certified / Fast Oceanside Course<br />\n-- Professional Timing &amp\; Results<br />\n-- Prizes and Awards<br />\n-- Cool Performance &amp\; Regular T-Shirts\, Hats &amp\; Visors
LOCATION:Starts & ends at 175 Port Road\, Kennebunk.
UID:e.1923.9846
SEQUENCE:3
DTSTAMP:20260425T143312Z
URL:https://chamber.gokennebunks.com/events/details/kennebunk-beach-classic-5k-06-03-2018-9846
END:VEVENT

END:VCALENDAR
