BEGIN:VCALENDAR
VERSION:2.0
PRODID:-//ChamberMaster//Event Calendar 2.0//EN
METHOD:PUBLISH
X-PUBLISHED-TTL:P3D
REFRESH-INTERVAL:P3D
CALSCALE:GREGORIAN
BEGIN:VEVENT
DTSTART:20190602T133000Z
DTEND:20190602T150000Z
X-MICROSOFT-CDO-ALLDAYEVENT:FALSE
SUMMARY:Kennebunk Beach Classic 5K
DESCRIPTION:Scenic 5K along Maine coastline. Professionally timed. Great for running enthusiasts and families alike. Called "one of the best 5K's in the region" by runners who return every year.
X-ALT-DESC;FMTTYPE=text/html:Scenic 5K along Maine coastline. Professionally timed. Great for running enthusiasts and families alike. Called &quot\;one of the best 5K&#39\;s in the region&quot\; by runners who return every year.
LOCATION:Kennebunk Lower Village
UID:e.1923.13087
SEQUENCE:3
DTSTAMP:20260424T194856Z
URL:https://chamber.gokennebunks.com/events/details/kennebunk-beach-classic-5k-06-02-2019-13087
END:VEVENT

END:VCALENDAR
