BEGIN:VCALENDAR
VERSION:2.0
PRODID:-//ChamberMaster//Event Calendar 2.0//EN
METHOD:PUBLISH
X-PUBLISHED-TTL:P3D
REFRESH-INTERVAL:P3D
CALSCALE:GREGORIAN
BEGIN:VEVENT
DTSTART:20250524T130000Z
DTEND:20250524T190000Z
X-MICROSOFT-CDO-ALLDAYEVENT:FALSE
SUMMARY:Kennebunk Artisans Marketplace
DESCRIPTION:The Kennebunk Artisans Marketplace is a showcase of 30-40 vendors on any given Saturday throughout the summer.  We will be offering "themed days" throughout our May through early October season.  The first theme\, offered on our opening day\, is titled "Welcome Summer".  We will be offering a "raffle basket" on each of our themed days that will contain samples of some of our crafters' creations\, along with other items that represent the theme for that day.  Raffle tickets will be given out to customers for every item they purchase from one of our many vendors at the Kennebunk Artisans Marketplace.
X-ALT-DESC;FMTTYPE=text/html:<p style="text-align:center">The <strong>Kennebunk Artisans Marketplace </strong>is a showcase of 30-40 vendors on any given Saturday throughout the summer.&nbsp\; We will be offering &ldquo\;themed days&rdquo\; throughout our May through early October season.&nbsp\; The first theme\, offered on our opening day\, is titled <strong>&ldquo\;Welcome Summer&rdquo\;</strong>.&nbsp\; We will be offering a <strong>&ldquo\;raffle basket&rdquo\;</strong> on each of our themed days that will contain samples of some of our crafters&rsquo\; creations\, along with other items that represent the theme for that day.&nbsp\; Raffle tickets will be given out to customers for <strong>every item</strong> they purchase from one of our many vendors at the Kennebunk Artisans Marketplace.&nbsp\;<br />\n&nbsp\;</p>\n
LOCATION:We're located at the Waterhouse Center\, 51 Main Street\, Kennebunk\, Maine
UID:e.1923.33342
SEQUENCE:3
DTSTAMP:20260421T045834Z
URL:https://chamber.gokennebunks.com/events/details/kennebunk-artisans-marketplace-33342
END:VEVENT

END:VCALENDAR
