BEGIN:VCALENDAR
VERSION:2.0
PRODID:-//ChamberMaster//Event Calendar 2.0//EN
METHOD:PUBLISH
X-PUBLISHED-TTL:P3D
REFRESH-INTERVAL:P3D
CALSCALE:GREGORIAN
BEGIN:VEVENT
DTSTART:20250531T130000Z
DTEND:20250531T190000Z
X-MICROSOFT-CDO-ALLDAYEVENT:FALSE
SUMMARY:Kennebunk Artisans Marketplace
DESCRIPTION:The Kennebunk Artisans Marketplace is a showcase of 30-40 vendors on any given Saturday throughout the summer.  There is a combination of live and/or piped in music\, which lends a feeling of fun\, relaxation\, and community to our events.  There is a great variety of artwork to view/purchase definitely something for everyone. \n\n \n\nWe will be offering "themed days" throughout our May through early October season.  Search "Kennebunk Artisans Marketplace" and scroll down to "Highlights" to see what dates those "themed days" will occur.  On those special days\, we will be offering a "raffle basket" that will contain samples of some of our crafters' creations\, along with other items that represent the theme for that day.  Raffle tickets will be given out to customers for every item they purchase from one of our many vendors at the Kennebunk Artisans Marketplace.\n\n \n\nWe hope to see you soon !!
X-ALT-DESC;FMTTYPE=text/html:<p style="text-align:center">The <strong>Kennebunk Artisans Marketplace</strong> is a showcase of 30-40 vendors on any given Saturday throughout the summer.&nbsp\; There is a combination of live and/or piped in music\, which lends a feeling of fun\, relaxation\, and community to our events.&nbsp\; There is a great variety of artwork to view/purchase&hellip\;definitely something for everyone.&nbsp\;<br />\n&nbsp\;<br />\nWe will be offering &ldquo\;themed days&rdquo\; throughout our May through early October season.&nbsp\; Search <strong>&ldquo\;Kennebunk Artisans Marketplace&rdquo\;</strong> and scroll down to <strong>&ldquo\;Highlights&rdquo\;</strong> to see what dates those &ldquo\;themed days&rdquo\; will occur.&nbsp\; On those special days\, we will be offering a &ldquo\;raffle basket&rdquo\; that will contain samples of some of our crafters&rsquo\; creations\, along with other items that represent the theme for that day.&nbsp\; Raffle tickets will be given out to customers for <strong>every item they purchase</strong> from one of our many vendors at the Kennebunk Artisans Marketplace.<br />\n&nbsp\;<br />\nWe hope to see you soon&hellip\;!!<br />\n&nbsp\;</p>\n
LOCATION:We're located at the Waterhouse Center\, 51 Main Street\, Kennebunk\, Maine
UID:e.1923.33998
SEQUENCE:3
DTSTAMP:20260421T045934Z
URL:https://chamber.gokennebunks.com/events/details/kennebunk-artisans-marketplace-05-31-2025-33998
END:VEVENT

END:VCALENDAR
