BEGIN:VCALENDAR
VERSION:2.0
PRODID:-//ChamberMaster//Event Calendar 2.0//EN
METHOD:PUBLISH
X-PUBLISHED-TTL:P3D
REFRESH-INTERVAL:P3D
CALSCALE:GREGORIAN
BEGIN:VEVENT
DTSTART:20190813T000000Z
DTEND:20190813T020000Z
X-MICROSOFT-CDO-ALLDAYEVENT:FALSE
SUMMARY:Katie Matzell
DESCRIPTION:Katie Matzell is an up-and-coming singer and songwriter from Portland\, Maine who released her debut EP at the start of 2018. MaineToday called the debut "fierce and dazzling\," adding that Matzell's vocals are "sweet\, full and gorgeous" with a "richness to them that make the songs burst all the more." The Deli Magazine said "Matzell's voice\, both effortless and simple\, floats above a sea of washy keys and pocket grooves\, calling comparisons to not only her influences of the past (Bonnie Raitt and Aretha Franklin)\, but to her contemporaries   Norah Jones and Emily King immediately come to mind." Matzell was nominated by the New England Music Awards in 2018 for Female Performer of the Year. Matzell is hard at work on new music for release in 2019.
X-ALT-DESC;FMTTYPE=text/html:Katie Matzell is an up-and-coming singer and songwriter from Portland\, Maine who released her debut EP at the start of 2018. MaineToday called the debut &ldquo\;fierce and dazzling\,&rdquo\; adding that Matzell&rsquo\;s vocals are &ldquo\;sweet\, full and gorgeous&rdquo\; with a &ldquo\;richness to them that make the songs burst all the more.&rdquo\; The Deli Magazine said &ldquo\;Matzell&rsquo\;s voice\, both effortless and simple\, floats above a sea of washy keys and pocket grooves\, calling comparisons to not only her influences of the past (Bonnie Raitt and Aretha Franklin)\, but to her contemporaries &mdash\; Norah Jones and Emily King immediately come to mind.&rdquo\; Matzell was nominated by the New England Music Awards in 2018 for Female Performer of the Year. Matzell is hard at work on new music for release in 2019.
LOCATION:Vinegar Hill Music Theatre 53 Old Post Rd. Arundel\, ME 04046
UID:e.1923.13059
SEQUENCE:3
DTSTAMP:20260424T165419Z
URL:https://chamber.gokennebunks.com/events/details/katie-matzell-13059
END:VEVENT

END:VCALENDAR
