BEGIN:VCALENDAR
VERSION:2.0
PRODID:-//ChamberMaster//Event Calendar 2.0//EN
METHOD:PUBLISH
X-PUBLISHED-TTL:P3D
REFRESH-INTERVAL:P3D
CALSCALE:GREGORIAN
BEGIN:VEVENT
DTSTART:20240211T003000Z
DTEND:20240211T023000Z
X-MICROSOFT-CDO-ALLDAYEVENT:FALSE
SUMMARY:Juston McKinney
DESCRIPTION:A former Biddeford native (Cleaves Street) and City Theater favorite\, Comedy Juston McKinney returns with lots of new material. He has multiple appearances on the Tonight Show\, Conan O'Brien\, both   hour and 1-hour specials on Comedy Central. He also has two one-hour specials you can currently watch on Amazon Prime. Throw in a couple of performances at the TD Garden for Comics Come Home with Denis Leary\, a Showtime Special with Rob Gronkowski and his newest special On the Bright Side on his YouTube Channel. See this former Maine Deputy Sheriff turned comedian live at the City Theater\, a Winterfest tradition for the past 11 years.
X-ALT-DESC;FMTTYPE=text/html:A former Biddeford native (Cleaves Street) and City Theater favorite\, Comedy Juston McKinney returns with lots of new material. He has multiple appearances on the Tonight Show\, Conan O&rsquo\;Brien\, both &frac12\; hour and 1-hour specials on Comedy Central. He also has two one-hour specials you can currently watch on Amazon Prime. Throw in a couple of performances at the TD Garden for Comics Come Home with Denis Leary\, a Showtime Special with Rob Gronkowski and his newest special On the Bright Side on his YouTube Channel. See this former Maine Deputy Sheriff turned comedian live at the City Theater\, a Winterfest tradition for the past 11 years.
LOCATION:Biddeford City Theater
UID:e.1923.23074
SEQUENCE:3
DTSTAMP:20260421T204720Z
URL:https://chamber.gokennebunks.com/events/details/juston-mckinney-02-10-2024-23074
END:VEVENT

END:VCALENDAR
