BEGIN:VCALENDAR
VERSION:2.0
PRODID:-//ChamberMaster//Event Calendar 2.0//EN
METHOD:PUBLISH
X-PUBLISHED-TTL:P3D
REFRESH-INTERVAL:P3D
CALSCALE:GREGORIAN
BEGIN:VEVENT
DTSTART:20240906T000000Z
DTEND:20240906T020000Z
X-MICROSOFT-CDO-ALLDAYEVENT:FALSE
SUMMARY:Journeyman - A Tribute to Eric Clapton
DESCRIPTION:GA Seated: $35 Advance | $45 Door\n\nFood Truck 6pm\n\nDoors 7pm | Show 8pm\n\n \n\n \n\nJoin us for food and drinks before the show in our outdoor garden starting at 6pm! \n\nThe night's food truck is Terra Firma!\n\n \n\nJOURNEYMAN   The ONLY nationally touring tribute to ERIC CLAPTON!\n\n \n\nFronted by Shaun Hague (Kenny Wayne Shepherd\, Amos Lee\, John Waite)\, JOURNEYMAN has become the #1 tribute to Clapton in a very short amount of time.\n\n \n\nThe band has been selling hundreds of tickets per night in the Midwest\, New England and West Coast. With over 50 years of music to choose from\, JOURNEYMAN covers it all   "Layla"\, "Badge"\, "The Core"\, "White Room"\, "Lay Down Sally"\, "Tulsa Time"\, "Cocaine" and many more.\n\n \n\n"This gifted group of musicians channel the spirit\, passion and musicianship of Clapton himself. The guitar playing is spot on recreating the Clapton catalog in all its splendid glory"- Patrick Norton / Talent Buyer @ Narrows Center for the Arts   Fall River\, MA\n\n \n\n"The best Eric Clapton tribute that we have ever worked with."- Adam Spriggs / Talent Buyer @ Saint Rocke   Hermosa Beach\, CA
X-ALT-DESC;FMTTYPE=text/html:<h4>GA Seated: $35 Advance | $45 Door</h4>\n\n<h4>Food Truck 6pm</h4>\n\n<h4>Doors 7pm | Show 8pm</h4>\n\n<h4>&nbsp\;</h4>\n\n<p>&nbsp\;</p>\n\n<p>Join us for food and drinks before the show in our outdoor garden starting at&nbsp\;<strong>6pm!</strong>&nbsp\;</p>\n\n<p>The night&rsquo\;s food truck is Terra Firma!</p>\n\n<p>&nbsp\;</p>\n\n<p><strong>JOURNEYMAN &ndash\; The ONLY nationally touring tribute to ERIC CLAPTON!</strong></p>\n\n<p>&nbsp\;</p>\n\n<p><span style="background-color:transparent">Fronted by Shaun Hague (Kenny Wayne Shepherd\, Amos Lee\, John Waite)\, JOURNEYMAN has become the #1 tribute to Clapton in a very short amount of time.</span></p>\n\n<p>&nbsp\;</p>\n\n<p><span style="background-color:transparent">The band has been selling hundreds of tickets per night in the Midwest\, New England and West Coast. With over 50 years of music to choose from\, JOURNEYMAN covers it all &ndash\; &ldquo\;Layla&rdquo\;\, &ldquo\;Badge&rdquo\;\, &ldquo\;The Core&rdquo\;\, &ldquo\;White Room&rdquo\;\, &ldquo\;Lay Down Sally&rdquo\;\, &ldquo\;Tulsa Time&rdquo\;\, &ldquo\;Cocaine&rdquo\; and many more.</span></p>\n\n<p>&nbsp\;</p>\n\n<p><span style="background-color:transparent">&ldquo\;This gifted group of musicians channel the spirit\, passion and musicianship of Clapton himself. The guitar playing is spot on recreating the Clapton catalog in all its splendid glory&rdquo\;- Patrick Norton / Talent Buyer @ Narrows Center for the Arts &ndash\; Fall River\, MA</span></p>\n\n<p>&nbsp\;</p>\n\n<p><span style="background-color:transparent">&ldquo\;The best Eric Clapton tribute that we have ever worked with.&rdquo\;- Adam Spriggs / Talent Buyer @ Saint Rocke &ndash\; Hermosa Beach\, CA</span></p>\n
LOCATION:Vinegar Hill Music Theatre 53 Old Post Road Arundel\, Maine 04046
UID:e.1923.29884
SEQUENCE:3
DTSTAMP:20260421T100044Z
URL:https://chamber.gokennebunks.com/events/details/journeyman-a-tribute-to-eric-clapton-29884
END:VEVENT

END:VCALENDAR
