BEGIN:VCALENDAR
VERSION:2.0
PRODID:-//ChamberMaster//Event Calendar 2.0//EN
METHOD:PUBLISH
X-PUBLISHED-TTL:P3D
REFRESH-INTERVAL:P3D
CALSCALE:GREGORIAN
BEGIN:VEVENT
DTSTART:20190730T000000Z
DTEND:20190730T020000Z
X-MICROSOFT-CDO-ALLDAYEVENT:FALSE
SUMMARY:Jonathan Richardson and Friends
DESCRIPTION:Singer\, piano player\, song writer\, and entertainer Jonathan Joseph Richardson (JJR) has become a local favorite in piano bars across New England. After earning his Master's from Boston's New England Conservatory\, he won two coveted jobs as a featured performer at Provincetown's Tin Pan Alley and in Ogunquit's legendary piano bar\, The Front Porch. For his second performance at Vinegar Hill\, Jonathan has assembled some of his most talented and versatile musical friends for an evening of songs you are sure to love  packed with plenty of lush vocal harmonies. In addition to performing iconic songs together\, this group will also be performing some of Jonathan's original songs from his debut album\, Tonic\, along with a concert hall premier of his trending single\, "Beyond the Stars."
X-ALT-DESC;FMTTYPE=text/html:Singer\, piano player\, song writer\, and entertainer Jonathan Joseph Richardson (JJR) has become a local favorite in piano bars across New England. After earning his Master&rsquo\;s from Boston&rsquo\;s New England Conservatory\, he won two coveted jobs as a featured performer at Provincetown&rsquo\;s Tin Pan Alley and in Ogunquit&rsquo\;s legendary piano bar\, The Front Porch. For his second performance at Vinegar Hill\, Jonathan has assembled some of his most talented and versatile musical friends for an evening of songs you are sure to love&mdash\; packed with plenty of lush vocal harmonies. In addition to performing iconic songs together\, this group will also be performing some of Jonathan&rsquo\;s original songs from his debut album\, Tonic\, along with a concert hall premier of his trending single\, &ldquo\;Beyond the Stars.&rdquo\;
LOCATION:Vinegar Hill Music Theatre 53 Old Post Rd. Arundel\, ME 04046
UID:e.1923.13066
SEQUENCE:3
DTSTAMP:20260424T194401Z
URL:https://chamber.gokennebunks.com/events/details/jonathan-richardson-and-friends-13066
END:VEVENT

END:VCALENDAR
