BEGIN:VCALENDAR
VERSION:2.0
PRODID:-//ChamberMaster//Event Calendar 2.0//EN
METHOD:PUBLISH
X-PUBLISHED-TTL:P3D
REFRESH-INTERVAL:P3D
CALSCALE:GREGORIAN
BEGIN:VEVENT
DTSTART:20170816T210000Z
DTEND:20170816T230000Z
X-MICROSOFT-CDO-ALLDAYEVENT:FALSE
SUMMARY:Join Maine Farmland Trust in the Kennebunks!
DESCRIPTION:In the next decade\, over 1/3 of Southern Maine's working farmland will change hands\, as farmers age and retire. With development pressure on the rise\, much is at stake for the future of farming in Southern Maine. Join MFT's President & CEO Amanda Beal to learn more about what MFT is doing to ensure that farming will continue to feed our state for generations to come.
X-ALT-DESC;FMTTYPE=text/html:In the next decade\, over 1/3 of Southern Maine&#39\;s working farmland will change hands\, as farmers age and retire. With development pressure on the rise\, much is at stake for the future of farming in Southern Maine. Join MFT&#39\;s President &amp\; CEO Amanda Beal to learn more about what MFT is doing to ensure that farming will continue to feed our state for generations to come.
LOCATION:The Barn at the Kennebunks\, 149 Port Road
UID:e.1923.5918
SEQUENCE:3
DTSTAMP:20260426T035727Z
URL:https://chamber.gokennebunks.com/events/details/join-maine-farmland-trust-in-the-kennebunks-5918
END:VEVENT

END:VCALENDAR
