BEGIN:VCALENDAR
VERSION:2.0
PRODID:-//ChamberMaster//Event Calendar 2.0//EN
METHOD:PUBLISH
X-PUBLISHED-TTL:P3D
REFRESH-INTERVAL:P3D
CALSCALE:GREGORIAN
BEGIN:VEVENT
DTSTART;VALUE=DATE:20250512
DTEND;VALUE=DATE:20250513
TRANSP:TRANSPARENT
X-MICROSOFT-CDO-ALLDAYEVENT:TRUE
SUMMARY:Join Judy- Monday Night Dancing at Bentley's Saloon!
DESCRIPTION:The SECOND AND LAST Monday of every month!\n\n45 mins\, staring at 6:49 in the back bar!\n\nPay Judy directly $9/class!
X-ALT-DESC;FMTTYPE=text/html:The SECOND AND LAST Monday of every month!<br />\n45 mins\, staring at 6:49 in the back bar!<br />\nPay Judy directly $9/class!
LOCATION:1601 Portland Road\, Arundel ME 04046
UID:e.1923.34234
SEQUENCE:3
DTSTAMP:20260421T045913Z
URL:https://chamber.gokennebunks.com/events/details/join-judy-monday-night-dancing-at-bentley-s-saloon-34234
END:VEVENT

END:VCALENDAR
