BEGIN:VCALENDAR
VERSION:2.0
PRODID:-//ChamberMaster//Event Calendar 2.0//EN
METHOD:PUBLISH
X-PUBLISHED-TTL:P3D
REFRESH-INTERVAL:P3D
CALSCALE:GREGORIAN
BEGIN:VEVENT
DTSTART:20180930T000000Z
DTEND:20180930T020000Z
X-MICROSOFT-CDO-ALLDAYEVENT:FALSE
SUMMARY:John Mueller's Winter Dance Party
DESCRIPTION:John Mueller?s ?Winter Dance Party?® is the official live and authentic re-creation of Buddy Holly\, Ritchie Valens and the Big Bopper?s final tour and the only show endorsed by the Holly\, Valens and Richardson estates. Each live concert performance includes over two hours of unbridled\, high voltage entertainment featuring all the hit songs of the 50?s era.
X-ALT-DESC;FMTTYPE=text/html:John Mueller?s ?Winter Dance Party?® is the official live and authentic re-creation of Buddy Holly\, Ritchie Valens and the Big Bopper?s final tour and the only show endorsed by the Holly\, Valens and Richardson estates. Each live concert performance includes over two hours of unbridled\, high voltage entertainment featuring all the hit songs of the 50?s era.
LOCATION:Vinegar Hill Music Theatre 53 Old Post Rd. Arundel\, ME 04046
UID:e.1923.7183
SEQUENCE:3
DTSTAMP:20260425T115736Z
URL:https://chamber.gokennebunks.com/events/details/john-mueller-s-winter-dance-party-7183
END:VEVENT

END:VCALENDAR
