BEGIN:VCALENDAR
VERSION:2.0
PRODID:-//ChamberMaster//Event Calendar 2.0//EN
METHOD:PUBLISH
X-PUBLISHED-TTL:P3D
REFRESH-INTERVAL:P3D
CALSCALE:GREGORIAN
BEGIN:VEVENT
DTSTART:20180908T000000Z
DTEND:20180908T023000Z
X-MICROSOFT-CDO-ALLDAYEVENT:FALSE
SUMMARY:Joe Diffie
DESCRIPTION:With the release of Jason Aldean's hit "1994" earlier this year that name-checked many of Joe Diffie's twelve Number One hits\, the legendary singer found himself squarely back in the hearts and minds of country fans. The multi-platinum-selling artist who dominated the charts during a hot streak in the '90's may have been absent from the radio charts for the past few years\, but Joe-Joe-Joe Diffie has never slowed down
X-ALT-DESC;FMTTYPE=text/html:With the release of Jason Aldean&rsquo\;s hit &quot\;1994&quot\; earlier this year that name-checked many of Joe Diffie&rsquo\;s twelve Number One hits\, the legendary singer found himself squarely back in the hearts and minds of country fans. The multi-platinum-selling artist who dominated the charts during a hot streak in the &lsquo\;90&rsquo\;s may have been absent from the radio charts for the past few years\, but Joe-Joe-Joe Diffie has never slowed down
LOCATION:Vinegar Hill Music Theatre 53 Old Post Rd Arundel\, ME 04046
UID:e.1923.9849
SEQUENCE:3
DTSTAMP:20260425T103652Z
URL:https://chamber.gokennebunks.com/events/details/joe-diffie-9849
END:VEVENT

END:VCALENDAR
