BEGIN:VCALENDAR
VERSION:2.0
PRODID:-//ChamberMaster//Event Calendar 2.0//EN
METHOD:PUBLISH
X-PUBLISHED-TTL:P3D
REFRESH-INTERVAL:P3D
CALSCALE:GREGORIAN
BEGIN:VEVENT
DTSTART:20171209T160000Z
DTEND:20171209T190000Z
X-MICROSOFT-CDO-ALLDAYEVENT:FALSE
SUMMARY:Jingle + Mingle
DESCRIPTION:Jingle + Mingle at AWS' annual Holiday Open House\, held at the adoption center in West Kennebunk. Fun for the whole family with pet photos with Santa\, holiday tunes\, stocking stuffers and raffles\, seasonal treats\, festive crafts for kids and much more! Feel free to bring a gift for the animals from our holiday wish list: http://animalwelfaresociety.org/support-us/wish-list/
X-ALT-DESC;FMTTYPE=text/html:Jingle + Mingle at AWS&rsquo\; annual Holiday Open House\, held at the adoption center in West Kennebunk. Fun for the whole family with pet photos with Santa\, holiday tunes\, stocking stuffers and raffles\, seasonal treats\, festive crafts for kids and much more! Feel free to bring a gift for the animals from our holiday wish list: http://animalwelfaresociety.org/support-us/wish-list/
LOCATION:Animal Welfare Society 46 Holland Road Kennebunk\, ME 04043
UID:e.1923.6975
SEQUENCE:3
DTSTAMP:20260425T222354Z
URL:https://chamber.gokennebunks.com/events/details/jingle-mingle-6975
END:VEVENT

END:VCALENDAR
