BEGIN:VCALENDAR
VERSION:2.0
PRODID:-//ChamberMaster//Event Calendar 2.0//EN
METHOD:PUBLISH
X-PUBLISHED-TTL:P3D
REFRESH-INTERVAL:P3D
CALSCALE:GREGORIAN
BEGIN:VEVENT
DTSTART:20240815T220000Z
DTEND:20240815T230000Z
X-MICROSOFT-CDO-ALLDAYEVENT:FALSE
SUMMARY:JIMMY MAC CONCERT
DESCRIPTION:Thursday\, August 15 at 6 PM. Jimmy Mac Concert. Join us for some good vibes and live music in the garden at Graves Library. Bring your friends\, bring your chair\, sit back\, tap your feet\, and listen to some local beat.  Let's celebrate summer\, our community\, and our fondness for talented artists right in our own backyard! Jimmy Mac is a classic singer-songwriter of Americana and folk music with acoustic guitar. A suggested donation of $10 per person would be appreciated. The Louis T. Graves Memorial Public Library is located at 18 Maine Street\, Kennebunkport. For further information\, please call 967-2778 or visit our website at www.graveslibrary.org.
X-ALT-DESC;FMTTYPE=text/html:<span style="font-family:arial\,sans-serif">Thursday\, August 15 at 6 PM. <strong>Jimmy Mac Concert</strong>. Join us for some good vibes and live music in the garden at Graves Library. Bring your friends\, bring your chair\, sit back\, tap your feet\, and listen to some local beat.&nbsp\; Let&rsquo\;s celebrate summer\, our community\, and our fondness for talented artists right in our own backyard! Jimmy Mac&nbsp\;is a classic singer-songwriter of Americana and folk music with acoustic guitar. A suggested donation of $10 per person would be appreciated. The Louis T. Graves Memorial Public Library is located at 18 Maine Street\, Kennebunkport. For further information\, please call 967-2778 or visit our website at </span><a href="http://www.graveslibrary.org/"><span style="color:windowtext"><span style="font-family:arial\,sans-serif">www.graveslibrary.org</span></span></a><span style="font-family:arial\,sans-serif">.</span>
LOCATION:The Louis T. Graves Memorial Public Library is located at 18 Maine Street\, Kennebunkport. For further information\, please call 967-2778 or visit our website at www.graveslibrary.org.
UID:e.1923.25415
SEQUENCE:3
DTSTAMP:20260421T124301Z
URL:https://chamber.gokennebunks.com/events/details/jimmy-mac-concert-08-15-2024-25415
END:VEVENT

END:VCALENDAR
