BEGIN:VCALENDAR
VERSION:2.0
PRODID:-//ChamberMaster//Event Calendar 2.0//EN
METHOD:PUBLISH
X-PUBLISHED-TTL:P3D
REFRESH-INTERVAL:P3D
CALSCALE:GREGORIAN
BEGIN:VEVENT
DTSTART:20180714T000000Z
DTEND:20180714T023000Z
X-MICROSOFT-CDO-ALLDAYEVENT:FALSE
SUMMARY:Jim Messina
DESCRIPTION:Now\, nearly 50 years after first stepping into the studio with Stephen Stills\, Neil Young and Richie Furay\, to engineer Buffalo Springfield Again\, Jim Messina is hitting the road with guitar in hand to tell the stories and sing the songs that made Buffalo Springfield\, Poco\, and Loggins & Messina\, iconic American groups.
X-ALT-DESC;FMTTYPE=text/html:Now\, nearly 50 years after first stepping into the studio with Stephen Stills\, Neil Young and Richie Furay\, to engineer Buffalo Springfield Again\, Jim Messina is hitting the road with guitar in hand to tell the stories and sing the songs that made Buffalo Springfield\, Poco\, and Loggins &amp\; Messina\, iconic American groups.
LOCATION:Vinegar Hill Music Theatre 53 Old Post Rd. Arundel\, ME 04046
UID:e.1923.7559
SEQUENCE:3
DTSTAMP:20260425T143301Z
URL:https://chamber.gokennebunks.com/events/details/jim-messina-07-13-2018-7559
END:VEVENT

END:VCALENDAR
