BEGIN:VCALENDAR
VERSION:2.0
PRODID:-//ChamberMaster//Event Calendar 2.0//EN
METHOD:PUBLISH
X-PUBLISHED-TTL:P3D
REFRESH-INTERVAL:P3D
CALSCALE:GREGORIAN
BEGIN:VEVENT
DTSTART:20230710T203000Z
DTEND:20230710T233000Z
X-MICROSOFT-CDO-ALLDAYEVENT:FALSE
SUMMARY:Jim Ciampi live at the Nonantum Resort
DESCRIPTION:Enjoy live entertainment with a view! The music of Jim Ciampi will be the perfect complement to dinner on the deck\, drinks at the pool\, or watching the sunset in an Adirondack chair. Free and open to the public. Meet you there!
X-ALT-DESC;FMTTYPE=text/html:Enjoy live entertainment with a view! The music of Jim Ciampi will be the perfect complement to dinner on the deck\, drinks at the pool\, or watching the sunset in an Adirondack chair. Free and open to the public. Meet you there!
LOCATION:The Nonantum Resort 95 Ocean Avenue Kennebunkport\, ME 04046
UID:e.1923.19246
SEQUENCE:3
DTSTAMP:20260422T050630Z
URL:https://chamber.gokennebunks.com/events/details/jim-ciampi-live-at-the-nonantum-resort-07-10-2023-19246
END:VEVENT

END:VCALENDAR
