BEGIN:VCALENDAR
VERSION:2.0
PRODID:-//ChamberMaster//Event Calendar 2.0//EN
METHOD:PUBLISH
X-PUBLISHED-TTL:P3D
REFRESH-INTERVAL:P3D
CALSCALE:GREGORIAN
BEGIN:VEVENT
DTSTART:20240425T200000Z
DTEND:20240530T213000Z
X-MICROSOFT-CDO-ALLDAYEVENT:FALSE
SUMMARY:JEWELRY AND ACCESSORY DESIGN
DESCRIPTION:THURSDAYS\, 4:00-5:30PM\n\n6 weeks\; April 25   May 30 (makeup if RTA cancels a class: 6/6)\n\nGrades 3-5\n\nInstructor: Emily Bider\n\n\n\nDo you love to make your own jewelry and accessories? Then this class is for you!\n\n\n\nEach week\, Emily will invite students to explore a variety of media and materials such as wire\, beads\, baubles\, ribbon\, buttons\, textiles and fabric paint etc. to create earrings\, necklaces\, bracelets\, rings\, hair accessories\, key chains\, wall hangings/charms and brooches/pins.\n\n\n\nIn addition to learning the basics of working with wire and jewelry findings like jump rings and clasps\, students will also learn how to hand-sew (without a machine) their own bags/pouches and deconstruct/reconstruct and embellish a plain white t-shirt!\n\n\n\nStudents will be encouraged to think-outside-the-box and harness their creative powers to create their own unique designs! Max attendees 6.\n\n\n\nREGISTER HERE: https://rivertree.app.neoncrm.com/np/clients/rivertree/event.jsp?event=12270&\n\n\n\nMembers: $190 | Non-Members: $220
X-ALT-DESC;FMTTYPE=text/html:THURSDAYS\, 4:00-5:30PM<br />\n6 weeks\; April 25 &ndash\; May 30 (makeup if RTA cancels a class: 6/6)<br />\nGrades 3-5<br />\nInstructor: Emily Bider<br />\n<br />\nDo you love to make your own jewelry and accessories? Then this class is for you!<br />\n<br />\nEach week\, Emily will invite students to explore a variety of media and materials such as wire\, beads\, baubles\, ribbon\, buttons\, textiles and fabric paint etc. to create earrings\, necklaces\, bracelets\, rings\, hair accessories\, key chains\, wall hangings/charms and brooches/pins.<br />\n<br />\nIn addition to learning the basics of working with wire and jewelry findings like jump rings and clasps\, students will also learn how to hand-sew (without a machine) their own bags/pouches and deconstruct/reconstruct and embellish a plain white t-shirt!<br />\n<br />\nStudents will be encouraged to think-outside-the-box and harness their creative powers to create their own unique designs! Max attendees 6.<br />\n<br />\nREGISTER HERE:&nbsp\;<a href="https://rivertree.app.neoncrm.com/np/clients/rivertree/event.jsp?event=12270&amp\;">https://rivertree.app.neoncrm.com/np/clients/rivertree/event.jsp?event=12270&amp\;</a><br />\n<br />\nMembers: $190 | Non-Members: $220
LOCATION:River Tree Arts\, 35 Western Ave.\, Kennebunk\, Maine
UID:e.1923.24546
SEQUENCE:3
DTSTAMP:20260421T153016Z
URL:https://chamber.gokennebunks.com/events/details/jewelry-and-accessory-design-24546
END:VEVENT

END:VCALENDAR
