BEGIN:VCALENDAR
VERSION:2.0
PRODID:-//ChamberMaster//Event Calendar 2.0//EN
METHOD:PUBLISH
X-PUBLISHED-TTL:P3D
REFRESH-INTERVAL:P3D
CALSCALE:GREGORIAN
BEGIN:VEVENT
DTSTART:20231209T150000Z
DTEND:20231209T170000Z
X-MICROSOFT-CDO-ALLDAYEVENT:FALSE
SUMMARY:JENNA & BARBARA BUSH BOOK SIGNING
DESCRIPTION:Saturday\, December 9 at 10 AM. Book Signing with Jenna Bush Hager and Barbara Pierce Bush. We hope you will join us on Saturday\, December 9 at 10:00 a.m. for a very special event. Twin sisters Jenna Bush Hager and Barbara Pierce Bush will be here at the Louis T. Graves Memorial Public Library\, and home of the "Book Cellar" to sign copies of their new book  Love Comes First. This newest book is a celebration of growing families. In the story\, two sisters wish upon a star for a sibling. Not only does their wish come true\, but they also get a new baby cousin. Although the wish doesn't turn out exactly the way the sisters imagined\, they soon learn that love conquers all. Pre-Registration is Required. Please call (207) 967-2778 to be added to the list. Parking is available at the Village Fire Station (North Street) and Consolidated School (Route 9). The Louis T. Graves Memorial Public Library is located at 18 Maine Street\, Kennebunkport. For further information\, please call 967-2778 or visit our website at www.graveslibrary.org.
X-ALT-DESC;FMTTYPE=text/html:<span style="font-family:arial\,sans-serif">Saturday\, December 9 at 10 AM. <strong>Book Signing</strong> <strong>with Jenna Bush Hager and Barbara Pierce Bush</strong>. We hope you will join us on Saturday\, December 9 at 10:00 a.m. for a very special event.&nbsp\;Twin sisters Jenna Bush Hager and Barbara Pierce Bush will be here at the Louis T. Graves Memorial Public Library\, and home of the &quot\;Book Cellar&quot\; to sign copies of their new book&nbsp\; Love Comes First. This newest book is a celebration of growing families. In the story\, two sisters wish upon a star for a sibling. Not only does their wish come true\, but they also get a new baby cousin. Although the wish doesn&#39\;t turn out exactly the way the sisters imagined\, they soon learn that love conquers all. Pre-Registration is Required. Please call (207) 967-2778 to be added to the list.&nbsp\;Parking is available at the Village Fire Station (North Street) and Consolidated School (Route 9). The Louis T. Graves Memorial Public Library is located at 18 Maine Street\, Kennebunkport. For further information\, please call 967-2778 or visit our website at www.graveslibrary.org.</span>
LOCATION:The Louis T. Graves Memorial Public Library is located at 18 Maine Street\, Kennebunkport. For further information\, please call 967-2778 or visit our website at www.graveslibrary.org.
UID:e.1923.23146
SEQUENCE:3
DTSTAMP:20260421T221210Z
URL:https://chamber.gokennebunks.com/events/details/jenna-barbara-bush-book-signing-23146
END:VEVENT

END:VCALENDAR
