BEGIN:VCALENDAR
VERSION:2.0
PRODID:-//ChamberMaster//Event Calendar 2.0//EN
METHOD:PUBLISH
X-PUBLISHED-TTL:P3D
REFRESH-INTERVAL:P3D
CALSCALE:GREGORIAN
BEGIN:VEVENT
DTSTART:20180721T140000Z
DTEND:20180809T210000Z
X-MICROSOFT-CDO-ALLDAYEVENT:FALSE
SUMMARY:Jeffrey T. Fitzgerald\, Rebecca Kinkead\, and Susan Wahlrab Show
DESCRIPTION:Art show for Jefrey T. Fitzgerald\, Rebecca Kindead\, and Susan Wahlrab Artist Reception on Saturday\, July 21st from 5 PM to 7 PM
X-ALT-DESC;FMTTYPE=text/html:Art show for Jefrey T. Fitzgerald\, Rebecca Kindead\, and Susan Wahlrab Artist Reception on Saturday\, July 21st from 5 PM to 7 PM
LOCATION:Shows at Maine Art Hill
UID:e.1923.9788
SEQUENCE:3
DTSTAMP:20260425T121315Z
URL:https://chamber.gokennebunks.com/events/details/jeffrey-t-fitzgerald-rebecca-kinkead-and-susan-wahlrab-show-9788
END:VEVENT

END:VCALENDAR
