BEGIN:VCALENDAR
VERSION:2.0
PRODID:-//ChamberMaster//Event Calendar 2.0//EN
METHOD:PUBLISH
X-PUBLISHED-TTL:P3D
REFRESH-INTERVAL:P3D
CALSCALE:GREGORIAN
BEGIN:VEVENT
DTSTART;VALUE=DATE:20180516
DTEND;VALUE=DATE:20180517
TRANSP:TRANSPARENT
X-MICROSOFT-CDO-ALLDAYEVENT:TRUE
SUMMARY:Jazzy Hour!!!
DESCRIPTION:Join the Ports of Italy team along with the talented Spencer Pope for an extended Jazzy Happy Hour !!! Your favorite bartender Ian will be mixing your favorite elixir's while Spence winds down your work day with his smooth saxophone session!!! \n\n\n\nEvery Wednesday 4-6pm!!
X-ALT-DESC;FMTTYPE=text/html:Join the Ports of Italy team along with the talented Spencer Pope for an extended Jazzy Happy Hour !!! Your favorite bartender Ian will be mixing your favorite elixir&#39\;s while Spence winds down your work day with his smooth saxophone session!!!&nbsp\;<br />\n<br />\nEvery Wednesday 4-6pm!!&nbsp\;
LOCATION:Ports of Italy 4 Western Avenue Kennebunk\, Maine
UID:e.1923.9802
SEQUENCE:3
DTSTAMP:20260425T154925Z
URL:https://chamber.gokennebunks.com/events/details/jazzy-hour-05-16-2018-9802
END:VEVENT

END:VCALENDAR
