BEGIN:VCALENDAR
VERSION:2.0
PRODID:-//ChamberMaster//Event Calendar 2.0//EN
METHOD:PUBLISH
X-PUBLISHED-TTL:P3D
REFRESH-INTERVAL:P3D
CALSCALE:GREGORIAN
BEGIN:VEVENT
DTSTART:20230401T230000Z
DTEND:20230402T010000Z
X-MICROSOFT-CDO-ALLDAYEVENT:FALSE
SUMMARY:Jazz at Lincoln Center: Songs We Love
DESCRIPTION:"Jazz at Lincoln Center: Songs We Love\," 100 Alumni Blvd.\, Sanford. 7 p.m. Songs We Love is a journey through the first 50 years of jazz song\, singing their way through four decades of music including Ma Rainey\, Billie Holiday\, Ella Fitzgerald\, Frank Sinatra and Judy Garland\, beginning with the early blues and jazz of the 1920s and ending in the early 1950s. Tickets $46-50. (207) 206-1126 / www.sanfordpac.org
X-ALT-DESC;FMTTYPE=text/html:&ldquo\;Jazz at Lincoln Center: Songs We Love\,&rdquo\; 100 Alumni Blvd.\, Sanford. 7 p.m. Songs We Love is a journey through the first 50 years of jazz song\, singing their way through four decades of music including Ma Rainey\, Billie Holiday\, Ella Fitzgerald\, Frank Sinatra and Judy Garland\, beginning with the early blues and jazz of the 1920s and ending in the early 1950s. Tickets $46-50. (207) 206-1126 / www.sanfordpac.org
LOCATION:Sanford Performing Arts Center
UID:e.1923.18456
SEQUENCE:3
DTSTAMP:20260424T113507Z
URL:https://chamber.gokennebunks.com/events/details/jazz-at-lincoln-center-songs-we-love-18456
END:VEVENT

END:VCALENDAR
