BEGIN:VCALENDAR
VERSION:2.0
PRODID:-//ChamberMaster//Event Calendar 2.0//EN
METHOD:PUBLISH
X-PUBLISHED-TTL:P3D
REFRESH-INTERVAL:P3D
CALSCALE:GREGORIAN
BEGIN:VEVENT
DTSTART:20180812T223000Z
DTEND:20180813T003000Z
X-MICROSOFT-CDO-ALLDAYEVENT:FALSE
SUMMARY:Jason Spooner & Friends
DESCRIPTION:New England's own Jason Spooner Band (Jason Spooner   guitar\, vocals and harmonica\, Adam Frederick - Bass & vocals\, Warren McPherson - Keyboards & vocals and Dan Boyden - Drums & Percussion) is in the midst of one of the band's most exciting musical growth spurts to date. The quartet stands out with an interesting signature sound that appeals to a wide range of audiences.... seamlessly blending a variety of musical influences into a cohesive\, energetic and listenable experience.
X-ALT-DESC;FMTTYPE=text/html:New England&rsquo\;s own Jason Spooner Band (Jason Spooner &ndash\; guitar\, vocals and harmonica\, Adam Frederick - Bass &amp\; vocals\, Warren McPherson - Keyboards &amp\; vocals and Dan Boyden - Drums &amp\; Percussion) is in the midst of one of the band&rsquo\;s most exciting musical growth spurts to date. The quartet stands out with an interesting signature sound that appeals to a wide range of audiences.... seamlessly blending a variety of musical influences into a cohesive\, energetic and listenable experience.
LOCATION:Vinegar Hill Music Theatre 53 Old Post Rd. Arundel\, ME 04046
UID:e.1923.9848
SEQUENCE:3
DTSTAMP:20260425T103828Z
URL:https://chamber.gokennebunks.com/events/details/jason-spooner-friends-9848
END:VEVENT

END:VCALENDAR
