BEGIN:VCALENDAR
VERSION:2.0
PRODID:-//ChamberMaster//Event Calendar 2.0//EN
METHOD:PUBLISH
X-PUBLISHED-TTL:P3D
REFRESH-INTERVAL:P3D
CALSCALE:GREGORIAN
BEGIN:VEVENT
DTSTART:20230713T220000Z
DTEND:20230713T233000Z
X-MICROSOFT-CDO-ALLDAYEVENT:FALSE
SUMMARY:JANET WENTWORTH & MARK GUNTHER CONCERT
DESCRIPTION:Thursday\, July 13\, 6 PM. Mark Gunther & Janet Wentworth Concert\, Louis T. Graves Memorial Public Library\,18 Maine Street\, Kennebunkport. Join us for some good vibes and live music in the garden at Graves Library Summer Music Series. Bring your friends\, bring your chair\, sit back\, tap your feet\, and listen to some local beat. Mark and Janet are part of a variety of bands in the area playing country blues and jazz with keyboard and vocals. Let's celebrate summer\, our community\, and our fondness for talented artists right in our own backyard! A suggested donation of $10 per person would be appreciated. This event will be held in the community room if it rains. Parking is available on Maine Street or at Consolidated School. For further information\, please call 967-2778 or visit our website at www.graveslibrary.org.
X-ALT-DESC;FMTTYPE=text/html:Thursday\, July 13\, 6 PM. Mark Gunther &amp\; Janet Wentworth Concert\, Louis T. Graves Memorial Public Library\,18 Maine Street\, Kennebunkport. Join us for some good vibes and live music in the garden at Graves Library Summer Music Series. Bring your friends\, bring your chair\, sit back\, tap your feet\, and listen to some local beat. Mark and Janet are part of a variety of bands in the area playing country blues and jazz with keyboard and vocals. Let&rsquo\;s celebrate summer\, our community\, and our fondness for talented artists right in our own backyard! A suggested donation of $10 per person would be appreciated. This event will be held in the community room if it rains. Parking is available on Maine Street or at Consolidated School. For further information\, please call 967-2778 or visit our website at www.graveslibrary.org.
LOCATION:Louis T. Graves Memorial Public Library\,18 Maine Street\, Kennebunkport.
UID:e.1923.20885
SEQUENCE:3
DTSTAMP:20260422T050344Z
URL:https://chamber.gokennebunks.com/events/details/janet-wentworth-mark-gunther-concert-20885
END:VEVENT

END:VCALENDAR
