BEGIN:VCALENDAR
VERSION:2.0
PRODID:-//ChamberMaster//Event Calendar 2.0//EN
METHOD:PUBLISH
X-PUBLISHED-TTL:P3D
REFRESH-INTERVAL:P3D
CALSCALE:GREGORIAN
BEGIN:VEVENT
DTSTART:20190427T160000Z
DTEND:20190427T180000Z
X-MICROSOFT-CDO-ALLDAYEVENT:FALSE
SUMMARY:IWCNE MEETING AND LUNCHEON
DESCRIPTION:International Women's Club of New England will have their meeting and luncheon The speaker will be The speaker will be Ambassador Robert Cekuta and his topic\, "Representing America Abroad: Leading the US Embassy in Azerbaijan". IWCNE is a nonprofit organization and the members work year round to raise money for charities chosen by them for that year. For more information\, please call Lucille at 207-318-7304
X-ALT-DESC;FMTTYPE=text/html:International Women&#39\;s Club of New England will have their meeting and luncheon The speaker will be The speaker will be Ambassador Robert Cekuta and his topic\, &quot\;Representing America Abroad: Leading the US Embassy in Azerbaijan&quot\;. IWCNE is a nonprofit organization and the members work year round to raise money for charities chosen by them for that year. For more information\, please call Lucille at 207-318-7304
LOCATION:CLAY HILL FARM CAPE NEDDICK\, ME
UID:e.1923.13117
SEQUENCE:3
DTSTAMP:20260425T000154Z
URL:https://chamber.gokennebunks.com/events/details/iwcne-meeting-and-luncheon-13117
END:VEVENT

END:VCALENDAR
