BEGIN:VCALENDAR
VERSION:2.0
PRODID:-//ChamberMaster//Event Calendar 2.0//EN
METHOD:PUBLISH
X-PUBLISHED-TTL:P3D
REFRESH-INTERVAL:P3D
CALSCALE:GREGORIAN
BEGIN:VEVENT
DTSTART:20240423T213000Z
DTEND:20240424T000000Z
X-MICROSOFT-CDO-ALLDAYEVENT:FALSE
SUMMARY:Italian Wine Dinner: Rocca delle Macíe
DESCRIPTION:Dine with us for an elegant evening of local New England cuisine with innovative twists and specialty curated wine. Experience a night of smooth sips and exquisite bites where you'll begin with a welcome toast in the living area. Indulge in Italian wines with Andrea Zingarelli\, Vice President of Rocca delle Mac e wines. Enjoy a four-course dinner that perfectly pairs with your Italian wine seated family-style. Join us and relish in a magical culinary experience of memorable dishes and an enchanting ambience!\n\n\n	5:30pm\, Welcome Toast\n	6:00pm\, Four-course dinner with wine pairing\n\n\n$175++ per person includes welcome reception\, dinner\, wine pairings\, tax\, and gratuity.\n\nTo learn more about Rocca delle Mac e click here.\n\nTo learn more about Ocean at Cape Arundel Inn & Resort click here.\n\nPurchase Tickets\n\nDinner is open to adults 21 years of age or older. Proper ID is required at door. We look forward to seeing you.
X-ALT-DESC;FMTTYPE=text/html:<p>Dine with us for an elegant evening of local New England cuisine with innovative twists and specialty curated wine. Experience a night of smooth sips and exquisite bites where you&rsquo\;ll begin with a welcome toast in the living area. Indulge in Italian wines with Andrea Zingarelli\, Vice President of&nbsp\;<a href="https://wineclub.roccadellemacie.com/en/wine-club/" rel="nofollow noopener noreferrer" style="background-color: transparent\; text-decoration-line: none\; color: rgb(54\, 89\, 227)\; cursor: pointer\; box-sizing: border-box\; padding-top: 0px\;" target="_blank" title="https://wineclub.roccadellemacie.com/en/wine-club/"><em><strong>Rocca delle Mac&iacute\;e</strong></em></a>&nbsp\;wines. Enjoy a four-course dinner that perfectly pairs with your Italian wine seated family-style. Join us and relish in a magical culinary experience of memorable dishes and an enchanting ambience!</p>\n\n<ul>\n	<li>5:30pm\, Welcome Toast</li>\n	<li>6:00pm\, Four-course dinner with wine pairing</li>\n</ul>\n\n<p>$175++ per person includes welcome reception\, dinner\, wine pairings\, tax\, and gratuity.</p>\n\n<p>To learn more about&nbsp\;<strong>Rocca delle Mac&iacute\;e&nbsp\;</strong><a href="https://www.instagram.com/roccadellemacie/" rel="nofollow noopener noreferrer" style="background-color: transparent\; text-decoration-line: none\; color: rgb(54\, 89\, 227)\; cursor: pointer\; box-sizing: border-box\;" target="_blank" title="https://www.instagram.com/roccadellemacie/">click here</a><strong>.</strong></p>\n\n<p>To learn more about&nbsp\;<strong>Ocean at Cape Arundel Inn &amp\; Resort</strong>&nbsp\;<a href="https://www.capearundelinn.com/dining-in-kennebunkport" rel="nofollow noopener noreferrer" style="background-color: transparent\; text-decoration-line: none\; color: rgb(54\, 89\, 227)\; cursor: pointer\; box-sizing: border-box\;" target="_blank" title="https://www.capearundelinn.com/dining-in-kennebunkport">click here.</a></p>\n\n<p><span style="font-size:14px"><a href="https://www.eventbrite.com/e/italian-wine-dinner-rocca-delle-macie-tickets-862441324217?aff=oddtdtcreator"><strong>Purchase Tickets</strong></a></span></p>\n\n<p><em>Dinner is open to adults 21 years of age or older. Proper ID is required at door. We look forward to seeing you.</em></p>\n
LOCATION:Cape Arundel Inn & Resort 208 Ocean Avenue Kennebunkport\, Maine 04046
UID:e.1923.24601
SEQUENCE:3
DTSTAMP:20260421T163951Z
URL:https://chamber.gokennebunks.com/events/details/italian-wine-dinner-rocca-delle-mac&#237;e-24601
END:VEVENT

END:VCALENDAR
