BEGIN:VCALENDAR
VERSION:2.0
PRODID:-//ChamberMaster//Event Calendar 2.0//EN
METHOD:PUBLISH
X-PUBLISHED-TTL:P3D
REFRESH-INTERVAL:P3D
CALSCALE:GREGORIAN
BEGIN:VEVENT
DTSTART:20260314T173000Z
DTEND:20260314T190000Z
X-MICROSOFT-CDO-ALLDAYEVENT:FALSE
SUMMARY:Italian White Wine Tasting at Ocean
DESCRIPTION:Join us for a relaxed afternoon at Ocean celebrating the bright\, refreshing white wines of Southern Italy. Explore selections from Sicily\, Sardinia\, and Puglia while enjoying three guided tastings paired with light bites. A perfect way to sip\, snack\, and discover the flavors of Italy in great company. Tickets include: ?? Three(3) wine tastings ?? Light bites & snacks Class is open to adults 21 years of age or older. Proper ID is required at door. We look forward to seeing you. Part of Ocean's Spring into Summer programming.
X-ALT-DESC;FMTTYPE=text/html:Join us for a relaxed afternoon at Ocean celebrating the bright\, refreshing white wines of Southern Italy. Explore selections from Sicily\, Sardinia\, and Puglia while enjoying three guided tastings paired with light bites. A perfect way to sip\, snack\, and discover the flavors of Italy in great company. Tickets include: ?? Three(3) wine tastings ?? Light bites &amp\; snacks Class is open to adults 21 years of age or older. Proper ID is required at door. We look forward to seeing you. Part of Ocean&#39\;s Spring into Summer programming.
LOCATION:Ocean Restaurant\, Cape Arundel Inn & Resort 208 Ocean Avenue Kennebunkport\, ME 04046
UID:e.1923.38944
SEQUENCE:3
DTSTAMP:20260421T220855Z
URL:https://chamber.gokennebunks.com/events/details/italian-white-wine-tasting-at-ocean-38944
END:VEVENT

END:VCALENDAR
