BEGIN:VCALENDAR
VERSION:2.0
PRODID:-//ChamberMaster//Event Calendar 2.0//EN
METHOD:PUBLISH
X-PUBLISHED-TTL:P3D
REFRESH-INTERVAL:P3D
CALSCALE:GREGORIAN
BEGIN:VEVENT
DTSTART:20231118T190000Z
DTEND:20231118T210000Z
X-MICROSOFT-CDO-ALLDAYEVENT:FALSE
SUMMARY:Italian Cocktail Classes at Via Sophia
DESCRIPTION:In vino veritas. In amaro? Amore. Italian spirits range from the delightful herbal nuance of a digestif to the sweet summery vibes of a limoncello. You'll learn to combine these unique flavors to create Italian classics\, such as Il Cardinale or the Aperol spritz. Join us to diversify your palate and expand the selection in your liquor cabinet. Plus\, enjoy light bites to pair with your new creations! Part of Via Sophia by the Sea's programming for Kennebunkport Hotel Week. More information about Via Sophia by the Sea\, in Kennebunk\, Maine. __ Class is open to adults 21 years of age or older. Proper ID is required at door. We look forward to seeing you.
X-ALT-DESC;FMTTYPE=text/html:In vino veritas. In amaro? Amore. Italian spirits range from the delightful herbal nuance of a digestif to the sweet summery vibes of a limoncello. You&#39\;ll learn to combine these unique flavors to create Italian classics\, such as Il Cardinale or the Aperol spritz. Join us to diversify your palate and expand the selection in your liquor cabinet. Plus\, enjoy light bites to pair with your new creations! Part of Via Sophia by the Sea&rsquo\;s programming for Kennebunkport Hotel Week. More information about Via Sophia by the Sea\, in Kennebunk\, Maine. __ Class is open to adults 21 years of age or older. Proper ID is required at door. We look forward to seeing you.
LOCATION:Via Sophia by the Sea 27 Western Ave Kennebunk\, ME 04043
UID:e.1923.22466
SEQUENCE:3
DTSTAMP:20260422T005027Z
URL:https://chamber.gokennebunks.com/events/details/italian-cocktail-classes-at-via-sophia-22466
END:VEVENT

END:VCALENDAR
