BEGIN:VCALENDAR
VERSION:2.0
PRODID:-//ChamberMaster//Event Calendar 2.0//EN
METHOD:PUBLISH
X-PUBLISHED-TTL:P3D
REFRESH-INTERVAL:P3D
CALSCALE:GREGORIAN
BEGIN:VEVENT
DTSTART:20240109T000000Z
DTEND:20240109T010000Z
X-MICROSOFT-CDO-ALLDAYEVENT:FALSE
SUMMARY:intro to yoga
DESCRIPTION:we're turning the heat off breaking down the postures you'll see the most of in our sweat + flow classes to help you learn flow\, modifications and technique. bring your injuries and history and let us help you get the most out of each class. this class is ideal for prenatal\, postnatal\, new to exercise or those looking to further their practice and find help in areas they struggle in class. it is workshop based so bring all your questions!
X-ALT-DESC;FMTTYPE=text/html:we&#39\;re turning the heat off breaking down the postures you&#39\;ll see the most of in our sweat + flow classes to help you learn flow\, modifications and technique. bring your injuries and history and let us help you get the most out of each class. this class is ideal for prenatal\, postnatal\, new to exercise or those looking to further their practice and find help in areas they struggle in class. it is workshop based so bring all your questions!
LOCATION:the daily sweat 65 portland rd\, kennebunk\, me
UID:e.1923.23298
SEQUENCE:3
DTSTAMP:20260421T220818Z
URL:https://chamber.gokennebunks.com/events/details/intro-to-yoga-23298
END:VEVENT

END:VCALENDAR
