BEGIN:VCALENDAR
VERSION:2.0
PRODID:-//ChamberMaster//Event Calendar 2.0//EN
METHOD:PUBLISH
X-PUBLISHED-TTL:P3D
REFRESH-INTERVAL:P3D
CALSCALE:GREGORIAN
BEGIN:VEVENT
DTSTART:20250121T000000Z
DTEND:20250121T010000Z
X-MICROSOFT-CDO-ALLDAYEVENT:FALSE
SUMMARY:intro to yoga
DESCRIPTION:we're turning the heat off + breaking down the postures you'll see the most of in our sweat + flow classes to help you learn flow\, modifications and technique. bring your injuries and history and let us help you get the most out of each class. sweat + flow is our signature class is our spin on a vinyasa/flow class. classes are set to music that will ebb and flow with your heart rate as we take you through breath work\, sun salutations\, yummy heart melting pose\, and everything in between. so come find your groove\, belt out a little Whitney Houston if it's in you and let your to-do list melt away as you carve out one hour just for you. this class is ideal for prenatal\, postnatal\, new to exercise or those looking to further their practice and find help in areas they struggle in class. it is workshop based so bring all your questions + get ready to transform your practice. grab your spot today.
X-ALT-DESC;FMTTYPE=text/html:<span style="color:rgb(34\, 34\, 34)\; font-family:docs-helvetica neue">we&#39\;re turning the heat off + breaking down the postures you&#39\;ll see the most of in our sweat + flow classes to help you learn flow\, modifications and technique. bring your injuries and history and let us help you get the most out of each class. sweat + flow is our signature class is our spin on a vinyasa/flow class. classes are set to music that will ebb and flow with your heart rate as we take you through breath work\, sun salutations\, yummy heart melting pose\, and everything in between. so come find your groove\, belt out a little Whitney Houston if it&#39\;s in you and let your to-do list melt away as you carve out one hour just for you. this class is ideal for prenatal\, postnatal\, new to exercise or those looking to further their practice and find help in areas they struggle in class. it is workshop based so bring all your questions + get ready to transform your practice. grab your spot today. </span>
LOCATION:65 portland rd\, kennebunk ME
UID:e.1923.31449
SEQUENCE:3
DTSTAMP:20260421T020550Z
URL:https://chamber.gokennebunks.com/events/details/intro-to-yoga-01-20-2025-31449
END:VEVENT

END:VCALENDAR
