BEGIN:VCALENDAR
VERSION:2.0
PRODID:-//ChamberMaster//Event Calendar 2.0//EN
METHOD:PUBLISH
X-PUBLISHED-TTL:P3D
REFRESH-INTERVAL:P3D
CALSCALE:GREGORIAN
BEGIN:VEVENT
DTSTART:20240423T130000Z
DTEND:20240528T150000Z
X-MICROSOFT-CDO-ALLDAYEVENT:FALSE
SUMMARY:INTRO TO DRAWING
DESCRIPTION:TUESDAYS\, 9:00AM-11:00AM\n\n6 weeks\; April 23   May 28 2024 (makeup if RTA cancels a class: 6/4)\n\nInstructor: Leah Payne\n\n\n\nIn this course\, students will learn the fundamentals of sketching and drawing\, providing them with a solid foundation to take their artwork to the next level. Students will focus on honing their technical skills\, and will learn how to transform three dimensional objects and scenes into a two dimensional image on the page. From still lives to landscapes to portraits\, this course will provide beginner artists with the knowledge they need to improve their drawing skills and continue drawing well into the future!\n\n\n\nREGISTER HERE: https://rivertree.app.neoncrm.com/np/clients/rivertree/event.jsp?event=12285&\n\n\n\nMembers: $225 | Non-Members: $255
X-ALT-DESC;FMTTYPE=text/html:TUESDAYS\, 9:00AM-11:00AM<br />\n6 weeks\; April 23 &ndash\; May 28 2024 (makeup if RTA cancels a class: 6/4)<br />\nInstructor: Leah Payne<br />\n<br />\nIn this course\, students will learn the fundamentals of sketching and drawing\, providing them with a solid foundation to take their artwork to the next level. Students will focus on honing their technical skills\, and will learn how to transform three dimensional objects and scenes into a two dimensional image on the page. From still lives to landscapes to portraits\, this course will provide beginner artists with the knowledge they need to improve their drawing skills and continue drawing well into the future!<br />\n<br />\nREGISTER HERE:&nbsp\;<a href="https://rivertree.app.neoncrm.com/np/clients/rivertree/event.jsp?event=12285&amp\;">https://rivertree.app.neoncrm.com/np/clients/rivertree/event.jsp?event=12285&amp\;</a><br />\n<br />\nMembers: $225 | Non-Members: $255
LOCATION:River Tree Arts\, 35 Western Ave.\, Kennebunk\, Maine
UID:e.1923.24550
SEQUENCE:3
DTSTAMP:20260421T164016Z
URL:https://chamber.gokennebunks.com/events/details/intro-to-drawing-24550
END:VEVENT

END:VCALENDAR
