BEGIN:VCALENDAR
VERSION:2.0
PRODID:-//ChamberMaster//Event Calendar 2.0//EN
METHOD:PUBLISH
X-PUBLISHED-TTL:P3D
REFRESH-INTERVAL:P3D
CALSCALE:GREGORIAN
BEGIN:VEVENT
DTSTART:20220621T203000Z
DTEND:20220621T213000Z
X-MICROSOFT-CDO-ALLDAYEVENT:FALSE
SUMMARY:international yoga day + summer solstice
DESCRIPTION:head into summer (and the new year) with heat\, dedication + strength. Celebrate the winter solstice by flowing through 108 sun salutations. Guided by your own breath\, you can go at your own pace\, feeling your mind + body sync as you move.
X-ALT-DESC;FMTTYPE=text/html:head into summer (and the new year) with heat\, dedication + strength. Celebrate the winter solstice by flowing through 108 sun salutations. Guided by your own breath\, you can go at your own pace\, feeling your mind + body sync as you move.
LOCATION:The Daily Sweat
UID:e.1923.17404
SEQUENCE:3
DTSTAMP:20260419T175638Z
URL:https://chamber.gokennebunks.com/events/details/international-yoga-day-summer-solstice-17404
END:VEVENT

END:VCALENDAR
