BEGIN:VCALENDAR
VERSION:2.0
PRODID:-//ChamberMaster//Event Calendar 2.0//EN
METHOD:PUBLISH
X-PUBLISHED-TTL:P3D
REFRESH-INTERVAL:P3D
CALSCALE:GREGORIAN
BEGIN:VEVENT
DTSTART:20260307T183000Z
DTEND:20260307T200000Z
X-MICROSOFT-CDO-ALLDAYEVENT:FALSE
SUMMARY:Infusion Mixology at Ocean
DESCRIPTION:Explore bright flavors and creative twists in this infusion-focused cocktail experience. Guests will enjoy a hands-on class featuring three refreshing favorites: the zesty Lemon Drop\, the herb-forward Rosemary Cosmo\, and the light\, citrusy Limoncello Spritz. Learn how infused ingredients elevate classic cocktails while enjoying a fun\, social atmosphere perfect for an afternoon out with friends or fellow cocktail lovers. Tickets include: ?? Three(3) cocktails ?? Light bites & snacks ?? Take home recipe cards __ Class is open to adults 21 years of age or older. Proper ID is required at door. We look forward to seeing you.
X-ALT-DESC;FMTTYPE=text/html:Explore bright flavors and creative twists in this infusion-focused cocktail experience. Guests will enjoy a hands-on class featuring three refreshing favorites: the zesty Lemon Drop\, the herb-forward Rosemary Cosmo\, and the light\, citrusy Limoncello Spritz. Learn how infused ingredients elevate classic cocktails while enjoying a fun\, social atmosphere perfect for an afternoon out with friends or fellow cocktail lovers. Tickets include: ?? Three(3) cocktails ?? Light bites &amp\; snacks ?? Take home recipe cards __ Class is open to adults 21 years of age or older. Proper ID is required at door. We look forward to seeing you.
LOCATION:Ocean Restaurant\, Cape Arundel Inn & Resort 208 Ocean Avenue Kennebunkport\, ME 04046
UID:e.1923.38940
SEQUENCE:3
DTSTAMP:20260421T220757Z
URL:https://chamber.gokennebunks.com/events/details/infusion-mixology-at-ocean-38940
END:VEVENT

END:VCALENDAR
