BEGIN:VCALENDAR
VERSION:2.0
PRODID:-//ChamberMaster//Event Calendar 2.0//EN
METHOD:PUBLISH
X-PUBLISHED-TTL:P3D
REFRESH-INTERVAL:P3D
CALSCALE:GREGORIAN
BEGIN:VEVENT
DTSTART:20230525T200000Z
DTEND:20230526T010000Z
X-MICROSOFT-CDO-ALLDAYEVENT:FALSE
SUMMARY:Industry Night at the Nonantum
DESCRIPTION:We know how hard you work\, so let us treat you to half off your bill! Industry folks\, come on over to the Nonantum on Thursday's and enjoy great food and beverages\, plus our beautiful waterfront views. This offer is extended to you and one guest! *Please bring proof of employment.
X-ALT-DESC;FMTTYPE=text/html:We know how hard you work\, so let us treat you to half off your bill! Industry folks\, come on over to the Nonantum on Thursday&rsquo\;s and enjoy great food and beverages\, plus our beautiful waterfront views. This offer is extended to you and one guest! *Please bring proof of employment.
LOCATION:The Nonantum Resort 95 Ocean Avenue Kennebunkport\, ME 04046
UID:e.1923.19208
SEQUENCE:3
DTSTAMP:20260424T101451Z
URL:https://chamber.gokennebunks.com/events/details/industry-night-at-the-nonantum-05-25-2023-19208
END:VEVENT

END:VCALENDAR
