BEGIN:VCALENDAR
VERSION:2.0
PRODID:-//ChamberMaster//Event Calendar 2.0//EN
METHOD:PUBLISH
X-PUBLISHED-TTL:P3D
REFRESH-INTERVAL:P3D
CALSCALE:GREGORIAN
BEGIN:VEVENT
DTSTART:20190427T160000Z
DTEND:20190427T164500Z
X-MICROSOFT-CDO-ALLDAYEVENT:FALSE
SUMMARY:Indoor Walking Tour: Building History
DESCRIPTION:It's cold outside   so come in for a tour!  Learn about the history of the Brick Store Museum buildings in their previous "lives" as stores\, gathering places\, offices\, and more\; and how each became part of the museum we know today. The tour takes visitors through the Museum's collections storage spaces. \n\n\n\nThis 45-minute tour through the Museum requires the use of stairs for portions of the program. The tour runs every Saturday in March and April from noon to 12:45pm.\n\n\n\nCost: $10.00 per person ($5 for Museum Members!) \n\n\n\nFor more information please call 985-4802 or visit www.brickstoremuseum.org
X-ALT-DESC;FMTTYPE=text/html:It&rsquo\;s cold outside &ndash\; so come in for a tour!&nbsp\; Learn about the history of the Brick Store Museum buildings in their previous &quot\;lives&quot\; as stores\, gathering places\, offices\, and more\; and how each became part of the museum we know today. The tour takes visitors through the Museum&#39\;s collections storage spaces.&nbsp\;<br />\n<br />\nThis 45-minute tour through the Museum requires the use of stairs for portions of the program. The tour runs every Saturday in March and April from noon to 12:45pm.<br />\n<br />\nCost: $10.00 per person ($5 for Museum Members!)&nbsp\;<br />\n<br />\nFor more information please call 985-4802 or visit www.brickstoremuseum.org
LOCATION:Brick Store Museum 117 Main Street Kennebunk\, ME\, 04043
UID:e.1923.13127
SEQUENCE:3
DTSTAMP:20260425T000302Z
URL:https://chamber.gokennebunks.com/events/details/indoor-walking-tour-building-history-04-27-2019-13127
END:VEVENT

END:VCALENDAR
