BEGIN:VCALENDAR
VERSION:2.0
PRODID:-//ChamberMaster//Event Calendar 2.0//EN
METHOD:PUBLISH
X-PUBLISHED-TTL:P3D
REFRESH-INTERVAL:P3D
CALSCALE:GREGORIAN
BEGIN:VEVENT
DTSTART:20190216T160000Z
DTEND:20190216T164500Z
X-MICROSOFT-CDO-ALLDAYEVENT:FALSE
SUMMARY:Indoor Tour: Love Stories of the Kennebunks
DESCRIPTION:t's cold outside - so come in for a tour at the Brick Store Museum!\n\n\n\nLearn about some of the lives and loves of historic Kennebunkers. The tour lasts 45 minutes\, and explores the Museum's second-floor collections storage areas. Tickets are $10 per person\, or $5 for Brick Store Museum members. \n\n\n\nThis indoor tour runs on every Saturday in February\, starting at 11:00am!
X-ALT-DESC;FMTTYPE=text/html:t&#39\;s cold outside - so come in for a tour at the Brick Store Museum!<br />\n<br />\nLearn about some of the lives and loves of historic Kennebunkers. The tour lasts 45 minutes\, and explores the Museum&#39\;s second-floor collections storage areas. Tickets are $10 per person\, or $5 for Brick Store Museum members.&nbsp\;<br />\n<br />\nThis indoor tour runs on every Saturday in February\, starting at 11:00am!
LOCATION:Brick Store Museum 117 Main Street Knnebunk\, Maine\, 0404
UID:e.1923.13081
SEQUENCE:3
DTSTAMP:20260425T013325Z
URL:https://chamber.gokennebunks.com/events/details/indoor-tour-love-stories-of-the-kennebunks-02-16-2019-13081
END:VEVENT

END:VCALENDAR
