BEGIN:VCALENDAR
VERSION:2.0
PRODID:-//ChamberMaster//Event Calendar 2.0//EN
METHOD:PUBLISH
X-PUBLISHED-TTL:P3D
REFRESH-INTERVAL:P3D
CALSCALE:GREGORIAN
BEGIN:VEVENT
DTSTART:20260131T180000Z
DTEND:20260131T210000Z
X-MICROSOFT-CDO-ALLDAYEVENT:FALSE
SUMMARY:Ice Skate for Sweetser
DESCRIPTION:Lace up your skates and join us for a FREE fun-filled day on the ice! Join us for Ice Skate for Sweetser on January 31st from 1 to 4PM at the Waterhouse Center on Main Street in Kennebunk. This free\, family-friendly public skate is a fun way to support Sweetser's essential mental health services and help families in our community access the care they need. Enjoy an afternoon on the ice\, meet Kenny Bear mascot on skates\, warm up with cozy drinks and tasty treats from Rolling Spirits NH\, and enter for a chance to win fun raffle prizes generously donated by local Kennebunk businesses. The event is made possible through a partnership with the Kennebunk Rotary\, the Kennebunk Chamber\, Kennebunk Savings Bank\, and other generous community sponsors. Whether you skate\, snack\, or cheer on others\, your participation makes a meaningful difference for families in need. Every glide helps make a difference! Parking is available to the left of the rink at Mark's Garage. Don't forget to bring your own skates!
X-ALT-DESC;FMTTYPE=text/html:Lace up your skates and join us for a FREE fun-filled day on the ice! Join us for Ice Skate for Sweetser on January 31st from 1 to 4PM at the Waterhouse Center on Main Street in Kennebunk. This free\, family-friendly public skate is a fun way to support Sweetser&rsquo\;s essential mental health services and help families in our community access the care they need. Enjoy an afternoon on the ice\, meet Kenny Bear mascot on skates\, warm up with cozy drinks and tasty treats from Rolling Spirits NH\, and enter for a chance to win fun raffle prizes generously donated by local Kennebunk businesses. The event is made possible through a partnership with the Kennebunk Rotary\, the Kennebunk Chamber\, Kennebunk Savings Bank\, and other generous community sponsors. Whether you skate\, snack\, or cheer on others\, your participation makes a meaningful difference for families in need. Every glide helps make a difference! Parking is available to the left of the rink at Mark&#39\;s Garage. Don&rsquo\;t forget to bring your own skates!
LOCATION:The Waterhouse Center\, 51 Main Street Kennebunk.
UID:e.1923.38351
SEQUENCE:3
DTSTAMP:20260421T192126Z
URL:https://chamber.gokennebunks.com/events/details/ice-skate-for-sweetser-38351
END:VEVENT

END:VCALENDAR
