BEGIN:VCALENDAR
VERSION:2.0
PRODID:-//ChamberMaster//Event Calendar 2.0//EN
METHOD:PUBLISH
X-PUBLISHED-TTL:P3D
REFRESH-INTERVAL:P3D
CALSCALE:GREGORIAN
BEGIN:VEVENT
DTSTART:20190724T210000Z
DTEND:20190724T230000Z
X-MICROSOFT-CDO-ALLDAYEVENT:FALSE
SUMMARY:Ice Cream Night and Trolley Rides
DESCRIPTION:Join Seashore Trolley Museum for a special tradition! Guests will be treated with ice cream sundaes and a special evening ride in an antique trolley on our private heritage railroad! This event takes place every Wednesday in July and August from 5PM-7PM.\n\n\n\nAdmission is $7 per person\, children 2 and under are free.\n\n\n\nThree seatings: 5:00 pm\, 5:45 pm\, and 6:15 pm.\n\n\n\nTickets may be purchased online or at the door.
X-ALT-DESC;FMTTYPE=text/html:<span style="color:rgb(29\, 33\, 41)\; font-family:helvetica\,arial\,sans-serif\; font-size:14px">Join Seashore Trolley Museum for a special tradition! Guests will be treated with ice cream sundaes and a special evening ride in an antique trolley on our private heritage railroad! This event takes place every Wednesday in July and August from 5PM-7PM.</span><br>\n<br>\n<span style="color:rgb(29\, 33\, 41)\; font-family:helvetica\,arial\,sans-serif\; font-size:14px">Admission is $7 per person\, children 2 and under are free.</span><br>\n<br>\n<span style="color:rgb(29\, 33\, 41)\; font-family:helvetica\,arial\,sans-serif\; font-size:14px">Three seatings: 5:00 pm\, 5:45 pm\, and 6:15 pm.</span><br>\n<br>\n<span style="color:rgb(29\, 33\, 41)\; font-family:helvetica\,arial\,sans-serif\; font-size:14px">Tickets may be purchased online or at the door.</span>
LOCATION:Seashore Trolley Museum 195 Log Cabin Road Kennebunkport\, ME 04046
UID:e.1923.13346
SEQUENCE:3
DTSTAMP:20260424T183335Z
URL:https://chamber.gokennebunks.com/events/details/ice-cream-night-and-trolley-rides-07-24-2019-13346
END:VEVENT

END:VCALENDAR
