BEGIN:VCALENDAR
VERSION:2.0
PRODID:-//ChamberMaster//Event Calendar 2.0//EN
METHOD:PUBLISH
X-PUBLISHED-TTL:P3D
REFRESH-INTERVAL:P3D
CALSCALE:GREGORIAN
BEGIN:VEVENT
DTSTART:20230716T160000Z
DTEND:20230716T170000Z
X-MICROSOFT-CDO-ALLDAYEVENT:FALSE
SUMMARY:ice cream + family yoga
DESCRIPTION:join us for a special class from 12-1pm on the lawn at scoop deck in Wells. just a short drive from kennebunk\, we think they have some of the best ice cream around with so many flavors to choose from\, it'll make your head spin. enjoy a free cone or discount after class from our favorite scoopers!
X-ALT-DESC;FMTTYPE=text/html:join us for a special class from 12-1pm on the lawn at scoop deck in Wells. just a short drive from kennebunk\, we think they have some of the best ice cream around with so many flavors to choose from\, it&rsquo\;ll make your head spin. enjoy a free cone or discount after class from our favorite scoopers!
LOCATION:scoop deck 6 Eldridge Rd\, Wells\, ME
UID:e.1923.19968
SEQUENCE:3
DTSTAMP:20260422T063456Z
URL:https://chamber.gokennebunks.com/events/details/ice-cream-family-yoga-19968
END:VEVENT

END:VCALENDAR
