BEGIN:VCALENDAR
VERSION:2.0
PRODID:-//ChamberMaster//Event Calendar 2.0//EN
METHOD:PUBLISH
X-PUBLISHED-TTL:P3D
REFRESH-INTERVAL:P3D
CALSCALE:GREGORIAN
BEGIN:VEVENT
DTSTART:20250614T133000Z
DTEND:20250615T203000Z
X-MICROSOFT-CDO-ALLDAYEVENT:FALSE
SUMMARY:“I’ve Driven By Several Times But I’ve Never Been Down the Driveway” Days at Seashore
DESCRIPTION:Maine Residents: If you can say\, "I've Driven By Several Times But I've Never Been Down the Driveway\," we would love to invite you as our guest on June 14th and 15th. Bring proof of residency and we'll give you free admission!  We're the world's first and largest transit museum of its kind\, and we're right in your backyard. It's time to cross us off your bucket list and take a trip to one of the most fun spots in southern Maine! Take a ride on our heritage railroad and enjoy exhibits and display around campus. Bring a picnic lunch!  Also\, if your dog is friendly\, we're dog friendly.
X-ALT-DESC;FMTTYPE=text/html:<span style="font-family:merriweather\,georgia\,times new roman\,times\,serif\; font-size:16px">Maine Residents: If you can say\,</span><strong>&nbsp\;&ldquo\;I&rsquo\;ve Driven By Several Times But I&rsquo\;ve Never Been Down the Driveway\,&rdquo\;&nbsp\;</strong><span style="font-family:merriweather\,georgia\,times new roman\,times\,serif\; font-size:16px">we would love to invite you as our guest on June 14th and 15th. Bring proof of residency and we&rsquo\;ll give you free admission!&nbsp\; We&rsquo\;re the world&rsquo\;s first and largest transit museum of its kind\, and we&rsquo\;re right in your backyard. It&rsquo\;s time to cross us off your bucket list and take a trip to one of the most fun spots in southern Maine! Take a ride on our heritage railroad and enjoy exhibits and display around campus. Bring a picnic lunch!&nbsp\; Also\, if your dog is friendly\, we&rsquo\;re dog friendly.</span>
LOCATION:Seashore Trolley Museum 195 Log Cabin Road Kennebunkport\, ME 04046
UID:e.1923.33945
SEQUENCE:3
DTSTAMP:20260421T062636Z
URL:https://chamber.gokennebunks.com/events/details/i-ve-driven-by-several-times-but-i-ve-never-been-down-the-driveway-days-at-seashore-06-14-2025-33945
END:VEVENT

END:VCALENDAR
